BEGIN:VCALENDAR
VERSION:2.0
PRODID:-//aldridgegardens.com//NONSGML kigkonsult.se iCalcreator 2.30.10//
CALSCALE:GREGORIAN
METHOD:PUBLISH
UID:e0c3c584-ca30-4866-b029-36c58f035c95
X-WR-CALDESC:Hydrangeas are a major component of Southern gardens and the h
 allmark of Aldridge Gardens.  This hands-on workshop will teach you an eas
 y way to propagate hydrangeas for yourself.  Class members may root up to 
 three fresh hydrangea cuttings to take home.\n \nPlease bring a CLEAR\, em
 pty 2 liter plastic soda bottle\, your pruners\, and a pair of scissors fo
 r trimming leaves.  \n\nInstructor: David Doggett\, Hydrangea Propagator\n
 \nCost: $25 Members/$30 Non-Members. \n\n
X-WR-RELCALID:ad51f631466748459f93a6a8e4ada7cf
X-WR-TIMEZONE:America/Chicago
BEGIN:VTIMEZONE
TZID:America/Chicago
BEGIN:STANDARD
TZNAME:CST
DTSTART:20191103T020000
TZOFFSETFROM:-0500
TZOFFSETTO:-0600
RDATE:20201101T020000
RDATE:20211107T020000
END:STANDARD
BEGIN:DAYLIGHT
TZNAME:CDT
DTSTART:20200308T020000
TZOFFSETFROM:-0600
TZOFFSETTO:-0500
RDATE:20210314T020000
END:DAYLIGHT
END:VTIMEZONE
BEGIN:VEVENT
UID:ce22783c-9eba-4a9c-b6c4-506c7fee994f
DTSTAMP:20260420T182901Z
DESCRIPTION:Hydrangeas are a major component of Southern gardens and the ha
 llmark of Aldridge Gardens.  This hands-on workshop will teach you an easy
  way to propagate hydrangeas for yourself.  Class members may root up to t
 hree fresh hydrangea cuttings to take home.\n \nPlease bring a CLEAR\, emp
 ty 2 liter plastic soda bottle\, your pruners\, and a pair of scissors for
  trimming leaves.  \n\nInstructor: David Doggett\, Hydrangea Propagator\n
 \nCost: $25 Members/$30 Non-Members. \n\n
DTSTART;TZID=America/Chicago:20200523T083000
DTEND;TZID=America/Chicago:20200523T103000
LOCATION:Aldridge Gardens' Hydrangea Garden\, Dirr Collection
SUMMARY:Hydrangea Propagation Workshop
END:VEVENT
END:VCALENDAR
