BEGIN:VCALENDAR
VERSION:2.0
PRODID:-//aldridgegardens.com//NONSGML kigkonsult.se iCalcreator 2.30.10//
CALSCALE:GREGORIAN
METHOD:PUBLISH
UID:2076dda6-6552-4a66-8bdf-7d42cebdac08
X-WR-CALDESC:<b>This camp has been CANCELLED.</b>\n\nJune 1 - 5\nEntering G
 rades 4th and 5th\n\nAn advanced class for students who enjoy the beauty a
 nd intricacy of origami. (Only 10 Spots Available)\n\nInstructor: Nancy Mc
 Gowan\n\n<b>This camp has been CANCELLED.</b>\n
X-WR-RELCALID:b1e53b36975ff29d81e1b12c6d484175
X-WR-TIMEZONE:America/Chicago
BEGIN:VTIMEZONE
TZID:America/Chicago
BEGIN:STANDARD
TZNAME:CST
DTSTART:20191103T020000
TZOFFSETFROM:-0500
TZOFFSETTO:-0600
RDATE:20201101T020000
RDATE:20211107T020000
END:STANDARD
BEGIN:DAYLIGHT
TZNAME:CDT
DTSTART:20200308T020000
TZOFFSETFROM:-0600
TZOFFSETTO:-0500
RDATE:20210314T020000
END:DAYLIGHT
END:VTIMEZONE
BEGIN:VEVENT
UID:bdbc9991-8362-4c46-adce-65063b3436b6
DTSTAMP:20260420T201432Z
DESCRIPTION:<b>This camp has been CANCELLED.</b>\n\nJune 1 - 5\nEntering Gr
 ades 4th and 5th\n\nAn advanced class for students who enjoy the beauty an
 d intricacy of origami. (Only 10 Spots Available)\n\nInstructor: Nancy McG
 owan\n\n<b>This camp has been CANCELLED.</b>\n
DTSTART;TZID=America/Chicago:20200601T090000
DTEND;TZID=America/Chicago:20200601T120000
LOCATION:
SUMMARY:Art and Math of Origami Camp June 1-5 (4th-5th)
END:VEVENT
END:VCALENDAR
