BEGIN:VCALENDAR
VERSION:2.0
PRODID:-//aldridgegardens.com//NONSGML kigkonsult.se iCalcreator 2.30.10//
CALSCALE:GREGORIAN
METHOD:PUBLISH
UID:a7bf9d18-3146-49fa-86e7-a13b79bc1ee5
X-WR-CALDESC:<b>This camp has been CANCELLED.</b>\n\nJune 1 - 5\nEntering G
 rades 5k – 3rd\n\nCooking & Booking in the Garden. Keeping reading skills 
 alive to find nature crafts and recipes to make as well as a daily scaveng
 er hunt!\n\nInstructor: Patti Tanner\n\n<b>This camp has been CANCELLED.</
 b>\n
X-WR-RELCALID:afbdadb86029445dd8afc1d8f306ef1c
X-WR-TIMEZONE:America/Chicago
BEGIN:VTIMEZONE
TZID:America/Chicago
BEGIN:STANDARD
TZNAME:CST
DTSTART:20191103T020000
TZOFFSETFROM:-0500
TZOFFSETTO:-0600
RDATE:20201101T020000
RDATE:20211107T020000
END:STANDARD
BEGIN:DAYLIGHT
TZNAME:CDT
DTSTART:20200308T020000
TZOFFSETFROM:-0600
TZOFFSETTO:-0500
RDATE:20210314T020000
END:DAYLIGHT
END:VTIMEZONE
BEGIN:VEVENT
UID:6c12e5ea-66b3-4daf-b470-9216d3685704
DTSTAMP:20260420T203129Z
DESCRIPTION:<b>This camp has been CANCELLED.</b>\n\nJune 1 - 5\nEntering Gr
 ades 5k – 3rd\n\nCooking & Booking in the Garden. Keeping reading skills a
 live to find nature crafts and recipes to make as well as a daily scavenge
 r hunt!\n\nInstructor: Patti Tanner\n\n<b>This camp has been CANCELLED.</b
 >\n
DTSTART;TZID=America/Chicago:20200601T090000
DTEND;TZID=America/Chicago:20200601T120000
LOCATION:
SUMMARY:Cooking and Booking Camp June 1-5 (5k-3rd)
END:VEVENT
END:VCALENDAR
