BEGIN:VCALENDAR
VERSION:2.0
PRODID:-//aldridgegardens.com//NONSGML kigkonsult.se iCalcreator 2.30.10//
CALSCALE:GREGORIAN
METHOD:PUBLISH
UID:1add9737-0d06-47a3-93da-f878ebaf3894
X-WR-CALDESC:June 1 - 5\nEntering Grades 5k – 3rd\n\nCool Art World. Unleas
 h your creativity with COLOR\, SHAPE\, TEXTURE\, FUN!\n\nInstructor: Melis
 sa Summers\n\n\n
X-WR-RELCALID:84a7f6b6ac5552a2c6e7e21a8e1cbd6b
X-WR-TIMEZONE:America/Chicago
BEGIN:VTIMEZONE
TZID:America/Chicago
BEGIN:STANDARD
TZNAME:CST
DTSTART:20191103T020000
TZOFFSETFROM:-0500
TZOFFSETTO:-0600
RDATE:20201101T020000
RDATE:20211107T020000
END:STANDARD
BEGIN:DAYLIGHT
TZNAME:CDT
DTSTART:20200308T020000
TZOFFSETFROM:-0600
TZOFFSETTO:-0500
RDATE:20210314T020000
END:DAYLIGHT
END:VTIMEZONE
BEGIN:VEVENT
UID:2f195e0b-4043-4465-ba31-f7d87664bfa7
DTSTAMP:20260422T082843Z
DESCRIPTION:June 1 - 5\nEntering Grades 5k – 3rd\n\nCool Art World. Unleash
  your creativity with COLOR\, SHAPE\, TEXTURE\, FUN!\n\nInstructor: Meliss
 a Summers\n\n\n
DTSTART;TZID=America/Chicago:20200601T090000
DTEND;TZID=America/Chicago:20200601T120000
LOCATION:
SUMMARY:Cool Art Camp June 1-5 (5k-3rd)
END:VEVENT
END:VCALENDAR
