BEGIN:VCALENDAR
VERSION:2.0
PRODID:-//aldridgegardens.com//NONSGML kigkonsult.se iCalcreator 2.30.10//
CALSCALE:GREGORIAN
METHOD:PUBLISH
UID:a65b667f-610e-4a73-bdbb-1eee32d79023
X-WR-CALDESC:<b>This camp is SOLD OUT.</b>\n\nJune 8 - 12\nEntering Grades 
 5k – 3rd\n\nIt’s time for summer! Girls\, are you ready for some fun? Brin
 g your doll to camp at Aldridge Gardens. (May also include My Life or Our 
 Generation Dolls.) You and your doll will explore the Gardens\, make all k
 inds of accessories and crafts for you and your dolls\, and even have a te
 a party!  Join us as we make new friends and great memories!\n\nInstructor
 : Casey Johnson\n\n<b>This camp is SOLD OUT.</b>\n
X-WR-RELCALID:baa1415787b04c98fe78720ecb1170e6
X-WR-TIMEZONE:America/Chicago
BEGIN:VTIMEZONE
TZID:America/Chicago
BEGIN:STANDARD
TZNAME:CST
DTSTART:20191103T020000
TZOFFSETFROM:-0500
TZOFFSETTO:-0600
RDATE:20201101T020000
RDATE:20211107T020000
END:STANDARD
BEGIN:DAYLIGHT
TZNAME:CDT
DTSTART:20200308T020000
TZOFFSETFROM:-0600
TZOFFSETTO:-0500
RDATE:20210314T020000
END:DAYLIGHT
END:VTIMEZONE
BEGIN:VEVENT
UID:2fb8ecfb-648a-4fab-93c2-eb1b9fa80f8a
DTSTAMP:20260420T201055Z
DESCRIPTION:<b>This camp is SOLD OUT.</b>\n\nJune 8 - 12\nEntering Grades 5
 k – 3rd\n\nIt’s time for summer! Girls\, are you ready for some fun? Bring
  your doll to camp at Aldridge Gardens. (May also include My Life or Our G
 eneration Dolls.) You and your doll will explore the Gardens\, make all ki
 nds of accessories and crafts for you and your dolls\, and even have a tea
  party!  Join us as we make new friends and great memories!\n\nInstructor:
  Casey Johnson\n\n<b>This camp is SOLD OUT.</b>\n
DTSTART;TZID=America/Chicago:20200608T090000
DTEND;TZID=America/Chicago:20200608T120000
LOCATION:
SUMMARY:American Girl Dolls Camp June 8-12 (5k-3rd)
END:VEVENT
END:VCALENDAR
