BEGIN:VCALENDAR
VERSION:2.0
PRODID:-//aldridgegardens.com//NONSGML kigkonsult.se iCalcreator 2.30.10//
CALSCALE:GREGORIAN
METHOD:PUBLISH
UID:e7fb4687-c4be-4c57-bd13-4b560a350d87
X-WR-CALDESC:<b>This camp has been CANCELLED.</b>\n\nJune 8 - 12\nEntering 
 Grades 5k – 3rd\n\nCooking & Booking in the Garden. Keeping reading skills
  alive to find nature crafts and recipes to make as well as a daily scaven
 ger hunt!\n\nInstructor: Patti Tanner\n\n<b>This camp has been CANCELLED.<
 /b>\n
X-WR-RELCALID:dbf1a0ecec131f8343f2702a4a8d9982
X-WR-TIMEZONE:America/Chicago
BEGIN:VTIMEZONE
TZID:America/Chicago
BEGIN:STANDARD
TZNAME:CST
DTSTART:20191103T020000
TZOFFSETFROM:-0500
TZOFFSETTO:-0600
RDATE:20201101T020000
RDATE:20211107T020000
END:STANDARD
BEGIN:DAYLIGHT
TZNAME:CDT
DTSTART:20200308T020000
TZOFFSETFROM:-0600
TZOFFSETTO:-0500
RDATE:20210314T020000
END:DAYLIGHT
END:VTIMEZONE
BEGIN:VEVENT
UID:4cc24ee0-b838-4ebe-aed9-8a40a0a17fa8
DTSTAMP:20260420T200855Z
DESCRIPTION:<b>This camp has been CANCELLED.</b>\n\nJune 8 - 12\nEntering G
 rades 5k – 3rd\n\nCooking & Booking in the Garden. Keeping reading skills 
 alive to find nature crafts and recipes to make as well as a daily scaveng
 er hunt!\n\nInstructor: Patti Tanner\n\n<b>This camp has been CANCELLED.</
 b>\n
DTSTART;TZID=America/Chicago:20200608T090000
DTEND;TZID=America/Chicago:20200608T120000
LOCATION:
SUMMARY:Cooking and Booking Camp June 8-12 (5k-3rd)
END:VEVENT
END:VCALENDAR
