BEGIN:VCALENDAR
VERSION:2.0
PRODID:-//aldridgegardens.com//NONSGML kigkonsult.se iCalcreator 2.30.10//
CALSCALE:GREGORIAN
METHOD:PUBLISH
UID:3f987318-afdf-42d2-9c61-cf919d4d14f0
X-WR-CALDESC:<b>This camp has been CANCELLED.</b>\n\nJune 8 - 12\nEntering 
 Grades 3rd-5th\n\nMake music\, sing\, make instruments\, make noise!\n\nIn
 structor: Kris Lindley\n\n<b>This camp has been CANCELLED.</b>\n
X-WR-RELCALID:02f9a50dc5b5b0f28c4bd89c08e4ac84
X-WR-TIMEZONE:America/Chicago
BEGIN:VTIMEZONE
TZID:America/Chicago
BEGIN:STANDARD
TZNAME:CST
DTSTART:20191103T020000
TZOFFSETFROM:-0500
TZOFFSETTO:-0600
RDATE:20201101T020000
RDATE:20211107T020000
END:STANDARD
BEGIN:DAYLIGHT
TZNAME:CDT
DTSTART:20200308T020000
TZOFFSETFROM:-0600
TZOFFSETTO:-0500
RDATE:20210314T020000
END:DAYLIGHT
END:VTIMEZONE
BEGIN:VEVENT
UID:7af7764b-245b-45c7-ab4b-b77455e1014a
DTSTAMP:20260420T200425Z
DESCRIPTION:<b>This camp has been CANCELLED.</b>\n\nJune 8 - 12\nEntering G
 rades 3rd-5th\n\nMake music\, sing\, make instruments\, make noise!\n\nIns
 tructor: Kris Lindley\n\n<b>This camp has been CANCELLED.</b>\n
DTSTART;TZID=America/Chicago:20200608T090000
DTEND;TZID=America/Chicago:20200608T120000
LOCATION:
SUMMARY:Music Makers Camp June 8-12 (3rd-5th)
END:VEVENT
END:VCALENDAR
