BEGIN:VCALENDAR
VERSION:2.0
PRODID:-//aldridgegardens.com//NONSGML kigkonsult.se iCalcreator 2.30.10//
CALSCALE:GREGORIAN
METHOD:PUBLISH
UID:d1b893bd-1f78-4683-bc6e-178d876ddb52
X-WR-CALDESC:June 8 - 12\nEntering Grades 5k – 3rd\n\nExplore some myths an
 d questions about the natural world in our backyard!  This may get a littl
 e messy! \n\nInstructor: Ellen Hottel\n\n\n
X-WR-RELCALID:55ef39ef28bf6c4f20bda9c5de1cf41b
X-WR-TIMEZONE:America/Chicago
BEGIN:VTIMEZONE
TZID:America/Chicago
BEGIN:STANDARD
TZNAME:CST
DTSTART:20191103T020000
TZOFFSETFROM:-0500
TZOFFSETTO:-0600
RDATE:20201101T020000
RDATE:20211107T020000
END:STANDARD
BEGIN:DAYLIGHT
TZNAME:CDT
DTSTART:20200308T020000
TZOFFSETFROM:-0600
TZOFFSETTO:-0500
RDATE:20210314T020000
END:DAYLIGHT
END:VTIMEZONE
BEGIN:VEVENT
UID:33ee3951-a28b-4b8b-aecd-f83c8574417f
DTSTAMP:20260420T201554Z
DESCRIPTION:June 8 - 12\nEntering Grades 5k – 3rd\n\nExplore some myths and
  questions about the natural world in our backyard!  This may get a little
  messy! \n\nInstructor: Ellen Hottel\n\n\n
DTSTART;TZID=America/Chicago:20200608T090000
DTEND;TZID=America/Chicago:20200608T120000
LOCATION:
SUMMARY:Myth Busters Camp June 8-12 (5k-3rd)
END:VEVENT
END:VCALENDAR
