BEGIN:VCALENDAR
VERSION:2.0
PRODID:-//aldridgegardens.com//NONSGML kigkonsult.se iCalcreator 2.30.10//
CALSCALE:GREGORIAN
METHOD:PUBLISH
UID:883a95ce-be2f-43a2-8d98-955f9956885a
X-WR-CALDESC:<b>This camp has been CANCELLED.</b>\n\nJune 15 -19\nEntering 
 Grades 5k – 3rd\n\nCooking & Booking in the Garden. Keeping reading skills
  alive to find nature crafts and recipes to make as well as a daily scaven
 ger hunt!\n\nInstructor: Patti Tanner\n\n<b>This camp has been CANCELLED.<
 /b>\n
X-WR-RELCALID:802b873e7637c484edffb05d2db99d39
X-WR-TIMEZONE:America/Chicago
BEGIN:VTIMEZONE
TZID:America/Chicago
BEGIN:STANDARD
TZNAME:CST
DTSTART:20191103T020000
TZOFFSETFROM:-0500
TZOFFSETTO:-0600
RDATE:20201101T020000
RDATE:20211107T020000
END:STANDARD
BEGIN:DAYLIGHT
TZNAME:CDT
DTSTART:20200308T020000
TZOFFSETFROM:-0600
TZOFFSETTO:-0500
RDATE:20210314T020000
END:DAYLIGHT
END:VTIMEZONE
BEGIN:VEVENT
UID:7d1c6355-8ad8-41e0-ac48-671630a84954
DTSTAMP:20260420T202231Z
DESCRIPTION:<b>This camp has been CANCELLED.</b>\n\nJune 15 -19\nEntering G
 rades 5k – 3rd\n\nCooking & Booking in the Garden. Keeping reading skills 
 alive to find nature crafts and recipes to make as well as a daily scaveng
 er hunt!\n\nInstructor: Patti Tanner\n\n<b>This camp has been CANCELLED.</
 b>\n
DTSTART;TZID=America/Chicago:20200615T090000
DTEND;TZID=America/Chicago:20200615T120000
LOCATION:
SUMMARY:Cooking and Booking Camp June 15-19 (5k-3rd)
END:VEVENT
END:VCALENDAR
