BEGIN:VCALENDAR
VERSION:2.0
PRODID:-//aldridgegardens.com//NONSGML kigkonsult.se iCalcreator 2.30.10//
CALSCALE:GREGORIAN
METHOD:PUBLISH
UID:e68be559-efe7-44d6-8576-8808982db6ae
X-WR-CALDESC:June 15-19\nEntering Grades 3th-5th\n\nPut on your Engineering
  hat and solve cool Construction problems using materials found around Ald
 ridge Gardens!  \nBuilding in nature: dams\, bridges\, towers\, and tunnel
 s. Using what you can find! Amazing! For more experienced Engineers!\n\nIn
 structor: Shannon Kline\n\n\n
X-WR-RELCALID:d56b0795303223e1f6e35f62eb560195
X-WR-TIMEZONE:America/Chicago
BEGIN:VTIMEZONE
TZID:America/Chicago
BEGIN:STANDARD
TZNAME:CST
DTSTART:20191103T020000
TZOFFSETFROM:-0500
TZOFFSETTO:-0600
RDATE:20201101T020000
RDATE:20211107T020000
END:STANDARD
BEGIN:DAYLIGHT
TZNAME:CDT
DTSTART:20200308T020000
TZOFFSETFROM:-0600
TZOFFSETTO:-0500
RDATE:20210314T020000
END:DAYLIGHT
END:VTIMEZONE
BEGIN:VEVENT
UID:90b549b7-dd52-44bb-aec9-84a357ee7a99
DTSTAMP:20260420T200625Z
DESCRIPTION:June 15-19\nEntering Grades 3th-5th\n\nPut on your Engineering 
 hat and solve cool Construction problems using materials found around Aldr
 idge Gardens!  \nBuilding in nature: dams\, bridges\, towers\, and tunnels
 . Using what you can find! Amazing! For more experienced Engineers!\n\nIns
 tructor: Shannon Kline\n\n\n
DTSTART;TZID=America/Chicago:20200615T090000
DTEND;TZID=America/Chicago:20200615T120000
LOCATION:
SUMMARY:Engineering and Construction Camp June 15-19 (3rd-5th)
END:VEVENT
END:VCALENDAR
