BEGIN:VCALENDAR
VERSION:2.0
PRODID:-//aldridgegardens.com//NONSGML kigkonsult.se iCalcreator 2.30.10//
CALSCALE:GREGORIAN
METHOD:PUBLISH
UID:ae98c057-8647-4d04-88d3-443d80f6ffac
X-WR-CALDESC:June 15 - 19\nEntering Grades 5k – 3rd\n\nExplore some myths a
 nd questions about the natural world in our backyard!  This may get a litt
 le messy! \n\nInstructor: Ellen Hottel\n\n\n
X-WR-RELCALID:fedd7c43dc2f0a78c7dd669074d8eec1
X-WR-TIMEZONE:America/Chicago
BEGIN:VTIMEZONE
TZID:America/Chicago
BEGIN:STANDARD
TZNAME:CST
DTSTART:20191103T020000
TZOFFSETFROM:-0500
TZOFFSETTO:-0600
RDATE:20201101T020000
RDATE:20211107T020000
END:STANDARD
BEGIN:DAYLIGHT
TZNAME:CDT
DTSTART:20200308T020000
TZOFFSETFROM:-0600
TZOFFSETTO:-0500
RDATE:20210314T020000
END:DAYLIGHT
END:VTIMEZONE
BEGIN:VEVENT
UID:41f34330-e110-4f61-937b-89e778487aeb
DTSTAMP:20260420T195929Z
DESCRIPTION:June 15 - 19\nEntering Grades 5k – 3rd\n\nExplore some myths an
 d questions about the natural world in our backyard!  This may get a littl
 e messy! \n\nInstructor: Ellen Hottel\n\n\n
DTSTART;TZID=America/Chicago:20200615T090000
DTEND;TZID=America/Chicago:20200615T120000
LOCATION:
SUMMARY:Myth Busters Camp June 15-19 (5k-3rd)
END:VEVENT
END:VCALENDAR
