BEGIN:VCALENDAR
VERSION:2.0
PRODID:-//aldridgegardens.com//NONSGML kigkonsult.se iCalcreator 2.30.10//
CALSCALE:GREGORIAN
METHOD:PUBLISH
UID:d934f59d-1404-496d-9e69-0073c575719b
X-WR-CALDESC:June 22 - 26\nEntering Grades 5k – 3rd\n\nIt’s time for summer
 ! Girls\, are you ready for some fun? Bring your doll to camp at Aldridge 
 Gardens. (May also include My Life or Our Generation Dolls.) You and your 
 doll will explore the Gardens\, make all kinds of accessories and crafts f
 or you and your dolls\, and even have a tea party!  Join us as we make new
  friends and great memories!\n\nInstructor: Shannon Kline\n\n\n
X-WR-RELCALID:369e8c5450ff10e35a3fb15568686d82
X-WR-TIMEZONE:America/Chicago
BEGIN:VTIMEZONE
TZID:America/Chicago
BEGIN:STANDARD
TZNAME:CST
DTSTART:20191103T020000
TZOFFSETFROM:-0500
TZOFFSETTO:-0600
RDATE:20201101T020000
RDATE:20211107T020000
END:STANDARD
BEGIN:DAYLIGHT
TZNAME:CDT
DTSTART:20200308T020000
TZOFFSETFROM:-0600
TZOFFSETTO:-0500
RDATE:20210314T020000
END:DAYLIGHT
END:VTIMEZONE
BEGIN:VEVENT
UID:ecb2aecd-d9d4-474a-a672-b76793e483e5
DTSTAMP:20260419T144325Z
DESCRIPTION:June 22 - 26\nEntering Grades 5k – 3rd\n\nIt’s time for summer!
  Girls\, are you ready for some fun? Bring your doll to camp at Aldridge G
 ardens. (May also include My Life or Our Generation Dolls.) You and your d
 oll will explore the Gardens\, make all kinds of accessories and crafts fo
 r you and your dolls\, and even have a tea party!  Join us as we make new 
 friends and great memories!\n\nInstructor: Shannon Kline\n\n\n
DTSTART;TZID=America/Chicago:20200622T090000
DTEND;TZID=America/Chicago:20200622T120000
LOCATION:
SUMMARY:American Girl Dolls Camp June 22-26 (5k-3rd)
END:VEVENT
END:VCALENDAR
