BEGIN:VCALENDAR
VERSION:2.0
PRODID:-//aldridgegardens.com//NONSGML kigkonsult.se iCalcreator 2.30.10//
CALSCALE:GREGORIAN
METHOD:PUBLISH
UID:8dbd61e4-b2be-4173-a6dc-2dc050827c86
X-WR-CALDESC:<b>This camp has been CANCELLED.</b>\n\nJune 22 - 26\nEntering
  Grades 5k – 3rd\n\nCooking & Booking in the Garden. Keeping reading skill
 s alive to find nature crafts and recipes to make as well as a daily scave
 nger hunt!\n\nInstructor: Patti Tanner\n\n<b>This camp has been CANCELLED.
 </b>\n
X-WR-RELCALID:70bf6d3e140573c2a9e666653da8a5da
X-WR-TIMEZONE:America/Chicago
BEGIN:VTIMEZONE
TZID:America/Chicago
BEGIN:STANDARD
TZNAME:CST
DTSTART:20191103T020000
TZOFFSETFROM:-0500
TZOFFSETTO:-0600
RDATE:20201101T020000
RDATE:20211107T020000
END:STANDARD
BEGIN:DAYLIGHT
TZNAME:CDT
DTSTART:20200308T020000
TZOFFSETFROM:-0600
TZOFFSETTO:-0500
RDATE:20210314T020000
END:DAYLIGHT
END:VTIMEZONE
BEGIN:VEVENT
UID:902c4484-33dc-4a0d-a041-510f0f416406
DTSTAMP:20260420T203248Z
DESCRIPTION:<b>This camp has been CANCELLED.</b>\n\nJune 22 - 26\nEntering 
 Grades 5k – 3rd\n\nCooking & Booking in the Garden. Keeping reading skills
  alive to find nature crafts and recipes to make as well as a daily scaven
 ger hunt!\n\nInstructor: Patti Tanner\n\n<b>This camp has been CANCELLED.<
 /b>\n
DTSTART;TZID=America/Chicago:20200622T090000
DTEND;TZID=America/Chicago:20200622T120000
LOCATION:
SUMMARY:Cooking and Booking Camp June 22-26 (5k-3rd)
END:VEVENT
END:VCALENDAR
