BEGIN:VCALENDAR
VERSION:2.0
PRODID:-//aldridgegardens.com//NONSGML kigkonsult.se iCalcreator 2.30.10//
CALSCALE:GREGORIAN
METHOD:PUBLISH
UID:abdfe1a5-e8ad-46c5-a8ec-d37db257b72f
X-WR-CALDESC:June 22 - 26\nEntering Grades 5k-3rd\n\nPut on your Engineerin
 g hat and solve cool Construction problems using materials found around Al
 dridge Gardens!  \n\nInstructor: Melissa Summers \n\n\n
X-WR-RELCALID:c9a0ff3f3254f1ef39b378870ffd0e35
X-WR-TIMEZONE:America/Chicago
BEGIN:VTIMEZONE
TZID:America/Chicago
BEGIN:STANDARD
TZNAME:CST
DTSTART:20191103T020000
TZOFFSETFROM:-0500
TZOFFSETTO:-0600
RDATE:20201101T020000
RDATE:20211107T020000
END:STANDARD
BEGIN:DAYLIGHT
TZNAME:CDT
DTSTART:20200308T020000
TZOFFSETFROM:-0600
TZOFFSETTO:-0500
RDATE:20210314T020000
END:DAYLIGHT
END:VTIMEZONE
BEGIN:VEVENT
UID:e2fd0c32-2093-4867-ac6b-1894a35e2a55
DTSTAMP:20260420T200154Z
DESCRIPTION:June 22 - 26\nEntering Grades 5k-3rd\n\nPut on your Engineering
  hat and solve cool Construction problems using materials found around Ald
 ridge Gardens!  \n\nInstructor: Melissa Summers \n\n\n
DTSTART;TZID=America/Chicago:20200622T090000
DTEND;TZID=America/Chicago:20200622T120000
LOCATION:
SUMMARY:Engineering and Construction Camp June 22-26 (5k-3rd)
END:VEVENT
END:VCALENDAR
