BEGIN:VCALENDAR
VERSION:2.0
PRODID:-//aldridgegardens.com//NONSGML kigkonsult.se iCalcreator 2.30.10//
CALSCALE:GREGORIAN
METHOD:PUBLISH
UID:a9a37866-3d59-4b33-934a-ba59dc906540
X-WR-CALDESC:The Bonsai Society Members Workshop will be held at Aldridge G
 ardens in our NaphCare Education Building. Please bring your trees to work
  on with John.\n\nIn order to provide space for more people\, this worksho
 p will be held twice during the month. Once on the first Saturday and anot
 her on the second Saturday. The workshop will be the same both times. Each
  class will be limited to nine people plus John\, for a total of 10 people
  in the room. \n\nBonsai Members will need to register here (use the regis
 ter now button at the top of this page) and may only attend one of the wor
 kshops per month in order to be fair to everyone. \n\nIf you are not yet a
  Bonsai Member\, but are interested\, please register to join us and learn
  about the art of Bonsai.\n\n
X-WR-RELCALID:da40c4ec49a3e14b64953d706f0d8cae
X-WR-TIMEZONE:America/Chicago
BEGIN:VTIMEZONE
TZID:America/Chicago
BEGIN:STANDARD
TZNAME:CST
DTSTART:20191103T020000
TZOFFSETFROM:-0500
TZOFFSETTO:-0600
RDATE:20201101T020000
RDATE:20211107T020000
END:STANDARD
BEGIN:DAYLIGHT
TZNAME:CDT
DTSTART:20200308T020000
TZOFFSETFROM:-0600
TZOFFSETTO:-0500
RDATE:20210314T020000
END:DAYLIGHT
END:VTIMEZONE
BEGIN:VEVENT
UID:1e9ef366-6501-494a-be05-a088a02f9283
DTSTAMP:20260421T010431Z
DESCRIPTION:The Bonsai Society Members Workshop will be held at Aldridge Ga
 rdens in our NaphCare Education Building. Please bring your trees to work 
 on with John.\n\nIn order to provide space for more people\, this workshop
  will be held twice during the month. Once on the first Saturday and anoth
 er on the second Saturday. The workshop will be the same both times. Each 
 class will be limited to nine people plus John\, for a total of 10 people 
 in the room. \n\nBonsai Members will need to register here (use the regist
 er now button at the top of this page) and may only attend one of the work
 shops per month in order to be fair to everyone. \n\nIf you are not yet a 
 Bonsai Member\, but are interested\, please register to join us and learn 
 about the art of Bonsai.\n\n
DTSTART;TZID=America/Chicago:20200905T090000
DTEND;TZID=America/Chicago:20200905T120000
LOCATION:Education Building at Aldridge Gardens
SUMMARY:Bonsai Society Members Workshop
END:VEVENT
END:VCALENDAR
