BEGIN:VCALENDAR
VERSION:2.0
PRODID:-//aldridgegardens.com//NONSGML kigkonsult.se iCalcreator 2.30.10//
CALSCALE:GREGORIAN
METHOD:PUBLISH
UID:d55f75c7-58f6-4a94-b8b4-67e0a76ed2cb
X-WR-CALDESC:The Bonsai Society Members Workshop will be held at Aldridge G
 ardens in our NaphCare Education Building. Please bring your trees to work
  on with John.\n\nIn order to provide space for more people\, this worksho
 p may be held twice during the month. (Once on the first Saturday and anot
 her on the second Saturday. The workshop will be the same both times.) If 
 so\, each class will be limited to nine people plus John\, for a total of 
 10 people in the room. \n\nBonsai Members will need to register here (use 
 the register now button at the top of this page) and may only attend one o
 f the workshops per month in order to be fair to everyone. \n\nIf you are 
 not yet a Bonsai Member\, but are interested\, please register to join us 
 and learn about the art of Bonsai.\n\n
X-WR-RELCALID:2ec37007eb7bda10c703cef3bf7c1e3e
X-WR-TIMEZONE:America/Chicago
BEGIN:VTIMEZONE
TZID:America/Chicago
BEGIN:STANDARD
TZNAME:CST
DTSTART:20191103T020000
TZOFFSETFROM:-0500
TZOFFSETTO:-0600
RDATE:20201101T020000
RDATE:20211107T020000
END:STANDARD
BEGIN:DAYLIGHT
TZNAME:CDT
DTSTART:20200308T020000
TZOFFSETFROM:-0600
TZOFFSETTO:-0500
RDATE:20210314T020000
RDATE:20220313T020000
END:DAYLIGHT
END:VTIMEZONE
BEGIN:VEVENT
UID:7233d78d-c886-466a-8a39-6581e21b48a9
DTSTAMP:20260421T023157Z
DESCRIPTION:The Bonsai Society Members Workshop will be held at Aldridge Ga
 rdens in our NaphCare Education Building. Please bring your trees to work 
 on with John.\n\nIn order to provide space for more people\, this workshop
  may be held twice during the month. (Once on the first Saturday and anoth
 er on the second Saturday. The workshop will be the same both times.) If s
 o\, each class will be limited to nine people plus John\, for a total of 1
 0 people in the room. \n\nBonsai Members will need to register here (use t
 he register now button at the top of this page) and may only attend one of
  the workshops per month in order to be fair to everyone. \n\nIf you are n
 ot yet a Bonsai Member\, but are interested\, please register to join us a
 nd learn about the art of Bonsai.\n\n
DTSTART;TZID=America/Chicago:20201003T090000
DTEND;TZID=America/Chicago:20201003T120000
LOCATION:Education Building at Aldridge Gardens
SUMMARY:Bonsai Society Members Workshop
END:VEVENT
END:VCALENDAR
