BEGIN:VCALENDAR
VERSION:2.0
PRODID:-//aldridgegardens.com//NONSGML kigkonsult.se iCalcreator 2.30.10//
CALSCALE:GREGORIAN
METHOD:PUBLISH
UID:063bec66-e4eb-4dfb-8e84-f158811f05c4
X-WR-CALDESC:This is not a scary event. Come and make arachnophobia a thing
  of the past! Learn about the fascinating world of spiders with Dr. Drew H
 ataway from the Biological and Environment Sciences Department at Samford 
 University. We'll be socially distancing outside under our pavilion and ma
 sks are encouraged. \n\nDr. Hataway will discuss his experiences with spid
 ers\, both in the wild and in the laboratory. He'll even bring some intere
 sting arachnids for us to view up close. Learn how to distinguish dangerou
 s from non-dangerous spiders. Plus\, bring your flashlights for a fun-fill
 ed field trip after class in search of harmless wolf spiders on the ground
 s of Aldridge Gardens. Their eyes glow in the dark! \n\nThis event is $20 
 for Aldridge Gardens members and $25 for non-members.\n<b>Each individual 
 registration covers one adult and one student aged 5 to 12.</b>\n
X-WR-RELCALID:b08fd8197c7b882179577ede913e49be
X-WR-TIMEZONE:America/Chicago
BEGIN:VTIMEZONE
TZID:America/Chicago
BEGIN:STANDARD
TZNAME:CST
DTSTART:20191103T020000
TZOFFSETFROM:-0500
TZOFFSETTO:-0600
RDATE:20201101T020000
RDATE:20211107T020000
END:STANDARD
BEGIN:DAYLIGHT
TZNAME:CDT
DTSTART:20200308T020000
TZOFFSETFROM:-0600
TZOFFSETTO:-0500
RDATE:20210314T020000
RDATE:20220313T020000
END:DAYLIGHT
END:VTIMEZONE
BEGIN:VEVENT
UID:6232ef4d-1f30-4e76-83e7-a713be2dbaa2
DTSTAMP:20260421T023100Z
DESCRIPTION:This is not a scary event. Come and make arachnophobia a thing 
 of the past! Learn about the fascinating world of spiders with Dr. Drew Ha
 taway from the Biological and Environment Sciences Department at Samford U
 niversity. We'll be socially distancing outside under our pavilion and mas
 ks are encouraged. \n\nDr. Hataway will discuss his experiences with spide
 rs\, both in the wild and in the laboratory. He'll even bring some interes
 ting arachnids for us to view up close. Learn how to distinguish dangerous
  from non-dangerous spiders. Plus\, bring your flashlights for a fun-fille
 d field trip after class in search of harmless wolf spiders on the grounds
  of Aldridge Gardens. Their eyes glow in the dark! \n\nThis event is $20 f
 or Aldridge Gardens members and $25 for non-members.\n<b>Each individual r
 egistration covers one adult and one student aged 5 to 12.</b>\n
DTSTART;TZID=America/Chicago:20201020T180000
DTEND;TZID=America/Chicago:20201020T200000
LOCATION:The Pavilion at Aldridge Gardens
SUMMARY:Creepy Crawly Spiders of Alabama
END:VEVENT
END:VCALENDAR
