BEGIN:VCALENDAR
VERSION:2.0
PRODID:-//aldridgegardens.com//NONSGML kigkonsult.se iCalcreator 2.30.10//
CALSCALE:GREGORIAN
METHOD:PUBLISH
UID:2ce38b78-f4f3-46a5-b954-5e725cd2d85a
X-WR-CALDESC:<b>Thank A Vet! Hoover’s 2020 Salute To Veterans</b>\n\nHoover
 ’s Veterans’ Week will begin Sunday\, November 8\, from 2 to 5 pm\, at the
  Aldridge Gardens’ Pavilion. This annual week-long event recognizes Hoover
  citizens’ military service for our country\, and instills community-wide 
 patriotism\, appreciation\, and respect for all branches of the U.S. Armed
  Services.\n\nThis year\, we will recognize and honor the 2020 Hoover Cham
 ber of Commerce Freedom Award recipient\, Lt. Col Ginger Branson\, U.S. Ar
 my (Ret) along with 5 deserving Hoover Veterans for their military service
 \, sacrifice\, and dedication\, with a flag folding ceremony. These flags 
 were flown over the State Capital in Montgomery and the Veterans will also
  receive a certificate signed by the Governor.\n\nWe as a community\, stat
 e\, and nation should always remember and honor our Veterans for their uns
 elfish deeds and bravery\, for protecting and securing our great nation an
 d for ensuring our incredible way of life. Join us for activities honoring
  those who bravely served our country!\n
X-WR-RELCALID:82519635f1a129462bc95a868c28a87c
X-WR-TIMEZONE:America/Chicago
BEGIN:VTIMEZONE
TZID:America/Chicago
BEGIN:STANDARD
TZNAME:CST
DTSTART:20201101T020000
TZOFFSETFROM:-0500
TZOFFSETTO:-0600
RDATE:20211107T020000
END:STANDARD
BEGIN:DAYLIGHT
TZNAME:CDT
DTSTART:20200308T020000
TZOFFSETFROM:-0600
TZOFFSETTO:-0500
RDATE:20210314T020000
RDATE:20220313T020000
END:DAYLIGHT
END:VTIMEZONE
BEGIN:VEVENT
UID:13116d13-19ec-4ea2-acdc-8193e7656cc1
DTSTAMP:20260421T040227Z
DESCRIPTION:<b>Thank A Vet! Hoover’s 2020 Salute To Veterans</b>\n\nHoover’
 s Veterans’ Week will begin Sunday\, November 8\, from 2 to 5 pm\, at the 
 Aldridge Gardens’ Pavilion. This annual week-long event recognizes Hoover 
 citizens’ military service for our country\, and instills community-wide p
 atriotism\, appreciation\, and respect for all branches of the U.S. Armed 
 Services.\n\nThis year\, we will recognize and honor the 2020 Hoover Chamb
 er of Commerce Freedom Award recipient\, Lt. Col Ginger Branson\, U.S. Arm
 y (Ret) along with 5 deserving Hoover Veterans for their military service\
 , sacrifice\, and dedication\, with a flag folding ceremony. These flags w
 ere flown over the State Capital in Montgomery and the Veterans will also 
 receive a certificate signed by the Governor.\n\nWe as a community\, state
 \, and nation should always remember and honor our Veterans for their unse
 lfish deeds and bravery\, for protecting and securing our great nation and
  for ensuring our incredible way of life. Join us for activities honoring 
 those who bravely served our country!\n
DTSTART;TZID=America/Chicago:20201108T140000
DTEND;TZID=America/Chicago:20201108T170000
LOCATION:The Pavilion at Aldridge Gardens
SUMMARY:City of Hoover's Thank A Vet Celebration
END:VEVENT
END:VCALENDAR
