BEGIN:VCALENDAR
VERSION:2.0
PRODID:-//aldridgegardens.com//NONSGML kigkonsult.se iCalcreator 2.30.10//
CALSCALE:GREGORIAN
METHOD:PUBLISH
UID:0d339c99-a26f-49c4-8e26-a0261c3e1c44
X-WR-CALDESC:<b>THIS EVENT HAS BEEN POSTPONED</b>\n\nJoin us for a receptio
 n to meet Ron and hear about his art directly from the artist. \n\nAbout t
 he Artist: \nA graduate of the University of Montevallo\, Ronald Lewis has
  won nearly 100 awards for his paintings in oil\, watercolor\, and acrylic
 . He is an elected signature member of the American Watercolor Society and
  has exhibited with numerous watercolor societies as well as the Birmingha
 m Art Association. He was one of a hundred artists chosen to exhibit at th
 e Smithsonian Institute with the National Park Academy of the Arts. He has
  also illustrated two books: 'My Country Roads' by Lou Brown and 'Papa's O
 ld Trunk' by Mary Butler.\n\nPlease click the button above to RSVP for thi
 s event.\n\n<b>THIS EVENT HAS BEEN POSTPONED</b>
X-WR-RELCALID:a5f4ab2f6712f31c3ed16f1a1f6738f7
X-WR-TIMEZONE:America/Chicago
BEGIN:VTIMEZONE
TZID:America/Chicago
BEGIN:STANDARD
TZNAME:CST
DTSTART:20201101T020000
TZOFFSETFROM:-0500
TZOFFSETTO:-0600
RDATE:20211107T020000
END:STANDARD
BEGIN:DAYLIGHT
TZNAME:CDT
DTSTART:20200308T020000
TZOFFSETFROM:-0600
TZOFFSETTO:-0500
RDATE:20210314T020000
RDATE:20220313T020000
END:DAYLIGHT
END:VTIMEZONE
BEGIN:VEVENT
UID:095f251d-48d8-4fc7-ba02-32e47e3e63e7
DTSTAMP:20260421T040950Z
DESCRIPTION:<b>THIS EVENT HAS BEEN POSTPONED</b>\n\nJoin us for a reception
  to meet Ron and hear about his art directly from the artist. \n\nAbout th
 e Artist: \nA graduate of the University of Montevallo\, Ronald Lewis has 
 won nearly 100 awards for his paintings in oil\, watercolor\, and acrylic.
  He is an elected signature member of the American Watercolor Society and 
 has exhibited with numerous watercolor societies as well as the Birmingham
  Art Association. He was one of a hundred artists chosen to exhibit at the
  Smithsonian Institute with the National Park Academy of the Arts. He has 
 also illustrated two books: 'My Country Roads' by Lou Brown and 'Papa's Ol
 d Trunk' by Mary Butler.\n\nPlease click the button above to RSVP for this
  event.\n\n<b>THIS EVENT HAS BEEN POSTPONED</b>
DTSTART;TZID=America/Chicago:20201117T180000
DTEND;TZID=America/Chicago:20201117T190000
LOCATION:Eddie and Kay Aldridge Arts and Historical Collections Museum
SUMMARY:Meet the Artist Reception - Ron Lewis
END:VEVENT
END:VCALENDAR
