BEGIN:VCALENDAR
VERSION:2.0
PRODID:-//aldridgegardens.com//NONSGML kigkonsult.se iCalcreator 2.30.10//
CALSCALE:GREGORIAN
METHOD:PUBLISH
UID:28ff319c-3d18-4d6b-ac94-eb6bb32b002d
X-WR-CALDESC:<b>THIS EVENT HAS BEEN POSTPONED</b>\n\nA wine reception for P
 ropagator level members to enjoy while meeting the artist. \n\nA graduate 
 of the University of Montevallo\, Ronald Lewis has won nearly 100 awards f
 or his paintings in oil\, watercolor\, and acrylic. He is an elected signa
 ture member of the American Watercolor Society and has exhibited with nume
 rous watercolor societies as well as the Birmingham Art Association. He wa
 s one of a hundred artists chosen to exhibit at the Smithsonian Institute 
 with the National Park Academy of the Arts. He has also illustrated two bo
 oks: 'My Country Roads' by Lou Brown and 'Papa's Old Trunk' by Mary Butler
 .\n\nJoin us for a reception to meet Ron and hear about his art directly f
 rom the artist. Please click the button above to RSVP for this event. \n\n
 <b>This propagator member event will roll into the general artists recepti
 on beginning at 6 p.m.</b>\n\n<b>THIS EVENT HAS BEEN POSTPONED</b>\n\n
X-WR-RELCALID:7aa039fa42d5a8643d11cd20024d3926
X-WR-TIMEZONE:America/Chicago
BEGIN:VTIMEZONE
TZID:America/Chicago
BEGIN:STANDARD
TZNAME:CST
DTSTART:20201101T020000
TZOFFSETFROM:-0500
TZOFFSETTO:-0600
RDATE:20211107T020000
END:STANDARD
BEGIN:DAYLIGHT
TZNAME:CDT
DTSTART:20200308T020000
TZOFFSETFROM:-0600
TZOFFSETTO:-0500
RDATE:20210314T020000
RDATE:20220313T020000
END:DAYLIGHT
END:VTIMEZONE
BEGIN:VEVENT
UID:da804bd5-8b04-4dab-924c-a758d06b3ee2
DTSTAMP:20260421T040040Z
DESCRIPTION:<b>THIS EVENT HAS BEEN POSTPONED</b>\n\nA wine reception for Pr
 opagator level members to enjoy while meeting the artist. \n\nA graduate o
 f the University of Montevallo\, Ronald Lewis has won nearly 100 awards fo
 r his paintings in oil\, watercolor\, and acrylic. He is an elected signat
 ure member of the American Watercolor Society and has exhibited with numer
 ous watercolor societies as well as the Birmingham Art Association. He was
  one of a hundred artists chosen to exhibit at the Smithsonian Institute w
 ith the National Park Academy of the Arts. He has also illustrated two boo
 ks: 'My Country Roads' by Lou Brown and 'Papa's Old Trunk' by Mary Butler.
 \n\nJoin us for a reception to meet Ron and hear about his art directly fr
 om the artist. Please click the button above to RSVP for this event. \n\n<
 b>This propagator member event will roll into the general artists receptio
 n beginning at 6 p.m.</b>\n\n<b>THIS EVENT HAS BEEN POSTPONED</b>\n\n
DTSTART;TZID=America/Chicago:20201117T170000
DTEND;TZID=America/Chicago:20201117T180000
LOCATION:Eddie and Kay Aldridge Arts and Historical Collections Museum
SUMMARY:Propagator Wine Reception - Artist Ron Lewis
END:VEVENT
END:VCALENDAR
