BEGIN:VCALENDAR
VERSION:2.0
PRODID:-//aldridgegardens.com//NONSGML kigkonsult.se iCalcreator 2.30.10//
CALSCALE:GREGORIAN
METHOD:PUBLISH
UID:0ff5f9c5-1ac4-4759-bf71-b8313bebc357
X-WR-CALDESC:Two-Day Greenery Sale\n \nFriday\, December 4th from noon to 4
 :30 p.m.\nand\nSaturday\, December 5th from 9 a.m to noon.\n \nNow is the 
 time to decorate your mantles\, mailboxes\, and entryways to set the mood 
 for the holidays. So decorate with branches\, garlands\, and botanical mat
 erials from Aldridge Gardens. Get fresh greenery for wreaths\, along with 
 bows\, mailbox cover frames\, and wreath frames for holiday decorating!\n
 \nCustom made wreaths and mailbox covers will be available on Saturday onl
 y. \n
X-WR-RELCALID:4ba638475010004160b1f65d33382f59
X-WR-TIMEZONE:America/Chicago
BEGIN:VTIMEZONE
TZID:America/Chicago
BEGIN:STANDARD
TZNAME:CST
DTSTART:20201101T020000
TZOFFSETFROM:-0500
TZOFFSETTO:-0600
RDATE:20211107T020000
END:STANDARD
BEGIN:DAYLIGHT
TZNAME:CDT
DTSTART:20200308T020000
TZOFFSETFROM:-0600
TZOFFSETTO:-0500
RDATE:20210314T020000
RDATE:20220313T020000
END:DAYLIGHT
END:VTIMEZONE
BEGIN:VEVENT
UID:722f1152-f52b-4eb8-99a6-9c1359e9c820
DTSTAMP:20260421T055254Z
DESCRIPTION:Two-Day Greenery Sale\n \nFriday\, December 4th from noon to 4:
 30 p.m.\nand\nSaturday\, December 5th from 9 a.m to noon.\n \nNow is the t
 ime to decorate your mantles\, mailboxes\, and entryways to set the mood f
 or the holidays. So decorate with branches\, garlands\, and botanical mate
 rials from Aldridge Gardens. Get fresh greenery for wreaths\, along with b
 ows\, mailbox cover frames\, and wreath frames for holiday decorating!\n\n
 Custom made wreaths and mailbox covers will be available on Saturday only.
  \n
DTSTART;TZID=America/Chicago:20201204T120000
DTEND;TZID=America/Chicago:20201204T163000
LOCATION:Beside the house on the patio at ROOTS
SUMMARY:Holiday Greenery Sale
END:VEVENT
END:VCALENDAR
