BEGIN:VCALENDAR
VERSION:2.0
PRODID:-//aldridgegardens.com//NONSGML kigkonsult.se iCalcreator 2.30.10//
CALSCALE:GREGORIAN
METHOD:PUBLISH
UID:4b467662-d1cb-416d-8c16-cfb951c815d7
X-WR-CALDESC:Floral designer Beth White will lead this hands-on class. She 
 will be sharing FRESH GREEN IDEAS to decorate your windows and doors to cr
 eate a festive atmosphere for the holidays. Supplies of a fresh greenery b
 undle\, ribbon\, and wire are included. You'll make things in class to tak
 e home with you! \n\nThe workshop cost is $25 for Aldridge Gardens members
  and $30 for non-members.  \n\nThe class will be socially distanced and he
 ld outside under our Pavilion.\n
X-WR-RELCALID:a4c93b157fe954e38467fba1e52d9b11
X-WR-TIMEZONE:America/Chicago
BEGIN:VTIMEZONE
TZID:America/Chicago
BEGIN:STANDARD
TZNAME:CST
DTSTART:20201101T020000
TZOFFSETFROM:-0500
TZOFFSETTO:-0600
RDATE:20211107T020000
END:STANDARD
BEGIN:DAYLIGHT
TZNAME:CDT
DTSTART:20200308T020000
TZOFFSETFROM:-0600
TZOFFSETTO:-0500
RDATE:20210314T020000
RDATE:20220313T020000
END:DAYLIGHT
END:VTIMEZONE
BEGIN:VEVENT
UID:e3cc4ed6-b290-4d12-8fe6-fdfbc5e97914
DTSTAMP:20260421T055132Z
DESCRIPTION:Floral designer Beth White will lead this hands-on class. She w
 ill be sharing FRESH GREEN IDEAS to decorate your windows and doors to cre
 ate a festive atmosphere for the holidays. Supplies of a fresh greenery bu
 ndle\, ribbon\, and wire are included. You'll make things in class to take
  home with you! \n\nThe workshop cost is $25 for Aldridge Gardens members 
 and $30 for non-members.  \n\nThe class will be socially distanced and hel
 d outside under our Pavilion.\n
DTSTART;TZID=America/Chicago:20201207T100000
DTEND;TZID=America/Chicago:20201207T120000
LOCATION:Outside under the Pavilion at Aldridge Gardens
SUMMARY:Greenery Workshop with Beth White
END:VEVENT
END:VCALENDAR
