BEGIN:VCALENDAR
VERSION:2.0
PRODID:-//aldridgegardens.com//NONSGML kigkonsult.se iCalcreator 2.30.10//
CALSCALE:GREGORIAN
METHOD:PUBLISH
UID:cfe0ac47-27e8-4584-a2e5-2fed3b96a96d
X-WR-CALDESC:<b>This class has been cancelled this year.</b>\n\nSophisticat
 ed Snowflake Cutting Class with Gary Chapman\n\nRemember cutting paper sno
 wflakes as a kid? Gary will show you how to add a bit of sophistication to
  your cuttings! All you need to bring is a pair of sharp scissors! Ages 12
  and up. \n\nThe cost is $20 for Aldridge Gardens members and $25 nonmembe
 rs. Class size is limited\, so please register early.\n\n<b>This class has
  been cancelled this year.</b>\n
X-WR-RELCALID:75f154d5a6805bddfc472772241829f1
X-WR-TIMEZONE:America/Chicago
BEGIN:VTIMEZONE
TZID:America/Chicago
BEGIN:STANDARD
TZNAME:CST
DTSTART:20201101T020000
TZOFFSETFROM:-0500
TZOFFSETTO:-0600
RDATE:20211107T020000
END:STANDARD
BEGIN:DAYLIGHT
TZNAME:CDT
DTSTART:20200308T020000
TZOFFSETFROM:-0600
TZOFFSETTO:-0500
RDATE:20210314T020000
RDATE:20220313T020000
END:DAYLIGHT
END:VTIMEZONE
BEGIN:VEVENT
UID:77278bfc-9ba2-431e-a787-36bf95708090
DTSTAMP:20260421T055029Z
DESCRIPTION:<b>This class has been cancelled this year.</b>\n\nSophisticate
 d Snowflake Cutting Class with Gary Chapman\n\nRemember cutting paper snow
 flakes as a kid? Gary will show you how to add a bit of sophistication to 
 your cuttings! All you need to bring is a pair of sharp scissors! Ages 12 
 and up. \n\nThe cost is $20 for Aldridge Gardens members and $25 nonmember
 s. Class size is limited\, so please register early.\n\n<b>This class has 
 been cancelled this year.</b>\n
DTSTART;TZID=America/Chicago:20201210T180000
DTEND;TZID=America/Chicago:20201210T200000
LOCATION:Education Building at Aldridge Gardens
SUMMARY:Sophisticated Snowflake Cutting Class
END:VEVENT
END:VCALENDAR
