BEGIN:VCALENDAR
VERSION:2.0
PRODID:-//aldridgegardens.com//NONSGML kigkonsult.se iCalcreator 2.30.10//
CALSCALE:GREGORIAN
METHOD:PUBLISH
UID:ba656027-ff2d-4472-897e-d8028e1eed38
X-WR-CALDESC:<b>This event is now SOLD OUT.</b>\n\nJoin Mike Rushing\, for 
 a walk around the grounds of Aldridge Gardens\, as he shares his knowledge
  about Japanese maples and demonstrates how to prune them. We'll meet in f
 ront of the Education Building. Masks and social distancing will be encour
 aged. \n\n$20 Members/$25 Non-Members\nClass size is limited.  Pre-registr
 ation suggested.\n\n<b>Instructor: </b>\nMike Rushing is a Master Gardener
  instructor and a Japanese maple enthusiast. \n
X-WR-RELCALID:fe2bfbdc559bb7a951ab72a627da020d
X-WR-TIMEZONE:America/Chicago
BEGIN:VTIMEZONE
TZID:America/Chicago
BEGIN:STANDARD
TZNAME:CST
DTSTART:20201101T020000
TZOFFSETFROM:-0500
TZOFFSETTO:-0600
RDATE:20211107T020000
END:STANDARD
BEGIN:DAYLIGHT
TZNAME:CDT
DTSTART:20200308T020000
TZOFFSETFROM:-0600
TZOFFSETTO:-0500
RDATE:20210314T020000
RDATE:20220313T020000
END:DAYLIGHT
END:VTIMEZONE
BEGIN:VEVENT
UID:15aa9795-2561-4a4e-bfe1-07ced42c6ce1
DTSTAMP:20260421T105754Z
DESCRIPTION:<b>This event is now SOLD OUT.</b>\n\nJoin Mike Rushing\, for a
  walk around the grounds of Aldridge Gardens\, as he shares his knowledge 
 about Japanese maples and demonstrates how to prune them. We'll meet in fr
 ont of the Education Building. Masks and social distancing will be encoura
 ged. \n\n$20 Members/$25 Non-Members\nClass size is limited.  Pre-registra
 tion suggested.\n\n<b>Instructor: </b>\nMike Rushing is a Master Gardener 
 instructor and a Japanese maple enthusiast. \n
DTSTART;TZID=America/Chicago:20210304T140000
DTEND;TZID=America/Chicago:20210304T160000
LOCATION:
SUMMARY:Japanese Maple Pruning Class
END:VEVENT
END:VCALENDAR
