BEGIN:VCALENDAR
VERSION:2.0
PRODID:-//aldridgegardens.com//NONSGML kigkonsult.se iCalcreator 2.30.10//
CALSCALE:GREGORIAN
METHOD:PUBLISH
UID:b96f39a9-b28c-4cc7-af7b-0f8e9fe59205
X-WR-CALDESC:If you're interested in or new to Bonsai\, you'll want to join
  us on March 31st. John Walker\, our in-house Bonsai specialist\, will spe
 ak on the topic of Bonsai. He'll cover what it is\, its history\, as well 
 as how to select\, trim\, maintain\, transplant\, re-pot\, and care for th
 is beautiful plant.  \n\nYou'll also learn about the Bonsai Society level 
 of Aldridge Gardens membership and what you can expect by becoming a part 
 of it. This will not be a workshop or a class\, but a general informationa
 l session. \n\nUse the 'register now' button above to RSVP. This event is 
 free but space is limited. Chairs will be spaced apart in our education bu
 ilding and masks will be encouraged.\n\n
X-WR-RELCALID:a103c79cc0d84120f4d28e5c6a0c2678
X-WR-TIMEZONE:America/Chicago
BEGIN:VTIMEZONE
TZID:America/Chicago
BEGIN:STANDARD
TZNAME:CST
DTSTART:20201101T020000
TZOFFSETFROM:-0500
TZOFFSETTO:-0600
RDATE:20211107T020000
END:STANDARD
BEGIN:DAYLIGHT
TZNAME:CDT
DTSTART:20210314T020000
TZOFFSETFROM:-0600
TZOFFSETTO:-0500
RDATE:20220313T020000
END:DAYLIGHT
END:VTIMEZONE
BEGIN:VEVENT
UID:b48b301c-e3ca-49bb-942f-12651884b2f2
DTSTAMP:20260421T105937Z
DESCRIPTION:If you're interested in or new to Bonsai\, you'll want to join 
 us on March 31st. John Walker\, our in-house Bonsai specialist\, will spea
 k on the topic of Bonsai. He'll cover what it is\, its history\, as well a
 s how to select\, trim\, maintain\, transplant\, re-pot\, and care for thi
 s beautiful plant.  \n\nYou'll also learn about the Bonsai Society level o
 f Aldridge Gardens membership and what you can expect by becoming a part o
 f it. This will not be a workshop or a class\, but a general informational
  session. \n\nUse the 'register now' button above to RSVP. This event is f
 ree but space is limited. Chairs will be spaced apart in our education bui
 lding and masks will be encouraged.\n\n
DTSTART;TZID=America/Chicago:20210331T100000
DTEND;TZID=America/Chicago:20210331T113000
LOCATION:Education Building at Aldridge Gardens
SUMMARY:Introduction to the Art of Bonsai
END:VEVENT
END:VCALENDAR
