BEGIN:VCALENDAR
VERSION:2.0
PRODID:-//aldridgegardens.com//NONSGML kigkonsult.se iCalcreator 2.30.10//
CALSCALE:GREGORIAN
METHOD:PUBLISH
UID:cb299212-c0c8-4894-ba8a-69f06b9e405f
X-WR-CALDESC:Walk the grounds of the Gardens with David Doggett. Learn abou
 t the Japanese Maples here\, as well as how to care for yours at home. Thi
 s event is free but registration is required. Click the register now butto
 n at the top of this page.
X-WR-RELCALID:b46b2c97fe98746646bd6335cb09946e
X-WR-TIMEZONE:America/Chicago
BEGIN:VTIMEZONE
TZID:America/Chicago
BEGIN:STANDARD
TZNAME:CST
DTSTART:20201101T020000
TZOFFSETFROM:-0500
TZOFFSETTO:-0600
RDATE:20211107T020000
END:STANDARD
BEGIN:DAYLIGHT
TZNAME:CDT
DTSTART:20210314T020000
TZOFFSETFROM:-0600
TZOFFSETTO:-0500
RDATE:20220313T020000
END:DAYLIGHT
END:VTIMEZONE
BEGIN:VEVENT
UID:3d869ead-38ca-49c0-8cab-26ed7fd059a2
DTSTAMP:20260421T121933Z
DESCRIPTION:Walk the grounds of the Gardens with David Doggett. Learn about
  the Japanese Maples here\, as well as how to care for yours at home. This
  event is free but registration is required. Click the register now button
  at the top of this page.
DTSTART;TZID=America/Chicago:20210410T100000
DTEND;TZID=America/Chicago:20210410T113000
LOCATION:
SUMMARY:Japanese Maple Walk and Talk with David Doggett
END:VEVENT
END:VCALENDAR
