BEGIN:VCALENDAR
VERSION:2.0
PRODID:-//aldridgegardens.com//NONSGML kigkonsult.se iCalcreator 2.30.10//
CALSCALE:GREGORIAN
METHOD:PUBLISH
UID:5ebf7020-9921-4392-b3dc-26b5d646634b
X-WR-CALDESC:<b>This second event is now also FULL.</b>\n\nSince the Saturd
 ay Walk and Talk sold out so quickly\, we're adding a second one on Sunday
 ! Walk the grounds of the Gardens with David Doggett. Learn about the Japa
 nese Maples here\, as well as how to care for yours at home. This event is
  free but registration is required. Click the register now button at the t
 op of this page.
X-WR-RELCALID:7b68f2715aa99f024d3958fbefde0d06
X-WR-TIMEZONE:America/Chicago
BEGIN:VTIMEZONE
TZID:America/Chicago
BEGIN:STANDARD
TZNAME:CST
DTSTART:20201101T020000
TZOFFSETFROM:-0500
TZOFFSETTO:-0600
RDATE:20211107T020000
END:STANDARD
BEGIN:DAYLIGHT
TZNAME:CDT
DTSTART:20210314T020000
TZOFFSETFROM:-0600
TZOFFSETTO:-0500
RDATE:20220313T020000
END:DAYLIGHT
END:VTIMEZONE
BEGIN:VEVENT
UID:563e5184-0b65-4dc1-b8ca-002e217a08ff
DTSTAMP:20260421T123822Z
DESCRIPTION:<b>This second event is now also FULL.</b>\n\nSince the Saturda
 y Walk and Talk sold out so quickly\, we're adding a second one on Sunday!
  Walk the grounds of the Gardens with David Doggett. Learn about the Japan
 ese Maples here\, as well as how to care for yours at home. This event is 
 free but registration is required. Click the register now button at the to
 p of this page.
DTSTART;TZID=America/Chicago:20210411T130000
DTEND;TZID=America/Chicago:20210411T150000
LOCATION:
SUMMARY:Japanese Maple Walk and Talk with David Doggett
END:VEVENT
END:VCALENDAR
