BEGIN:VCALENDAR
VERSION:2.0
PRODID:-//aldridgegardens.com//NONSGML kigkonsult.se iCalcreator 2.30.10//
CALSCALE:GREGORIAN
METHOD:PUBLISH
UID:97990040-ba60-4d03-ad5c-5e873b62fb37
X-WR-CALDESC:Aldridge Gardens will be hosting 'Storytime with the Hoover Pu
 blic Library' on Thursday\, April 22nd from 10 to 10:30 a.m.. Bring your c
 hildren and a blanket or chairs to listen to a story in the Pavilion. Plen
 ty of space to social distance\, adjacent to restrooms\, and you can enjoy
  Aldridge Gardens both before and after your story!\n\n<a target='_blank' 
 href='http://events.hooverlibrary.org/events?t=Storytime&v=grid' rel='nore
 ferrer noopener'>Click here to register on the Hoover Public Library websi
 te. </a> \n
X-WR-RELCALID:c6d6b4a2c94cd1908d1065ee995b77a5
X-WR-TIMEZONE:America/Chicago
BEGIN:VTIMEZONE
TZID:America/Chicago
BEGIN:STANDARD
TZNAME:CST
DTSTART:20201101T020000
TZOFFSETFROM:-0500
TZOFFSETTO:-0600
RDATE:20211107T020000
END:STANDARD
BEGIN:DAYLIGHT
TZNAME:CDT
DTSTART:20210314T020000
TZOFFSETFROM:-0600
TZOFFSETTO:-0500
RDATE:20220313T020000
END:DAYLIGHT
END:VTIMEZONE
BEGIN:VEVENT
UID:3ce257ec-b29b-46c6-af38-bbbe2d19482b
DTSTAMP:20260421T123307Z
DESCRIPTION:Aldridge Gardens will be hosting 'Storytime with the Hoover Pub
 lic Library' on Thursday\, April 22nd from 10 to 10:30 a.m.. Bring your ch
 ildren and a blanket or chairs to listen to a story in the Pavilion. Plent
 y of space to social distance\, adjacent to restrooms\, and you can enjoy 
 Aldridge Gardens both before and after your story!\n\n<a target='_blank' h
 ref='http://events.hooverlibrary.org/events?t=Storytime&v=grid' rel='noref
 errer noopener'>Click here to register on the Hoover Public Library websit
 e. </a> \n
DTSTART;TZID=America/Chicago:20210422T100000
DTEND;TZID=America/Chicago:20210422T103000
LOCATION:Outside under the Pavilion at Aldridge Gardens
SUMMARY:Storytime with the Hoover Public Library
END:VEVENT
END:VCALENDAR
