BEGIN:VCALENDAR
VERSION:2.0
PRODID:-//aldridgegardens.com//NONSGML kigkonsult.se iCalcreator 2.30.10//
CALSCALE:GREGORIAN
METHOD:PUBLISH
UID:53b4a1c1-33cb-4fca-95b3-f91711057e34
X-WR-CALDESC:“Sip & See” at Aldridge Gardens\nWednesday\, May 12th from 5 t
 o 7 p.m.\n\nPlease join us for an indoor-outdoor reception featuring estee
 med Birmingham artist Lowell Vann. Sip refreshments while viewing Vann’s p
 aintings inside the gallery. Plus\, his beloved minimalist ceramics will b
 e available for purchase just outside on our covered patio. ($-$$) Great g
 ift ideas! Bring the family. Invite a friend!\n\nMasks Optional | Casual D
 ress | Wine and Refreshments\n\n<b>Please RSVP</b> to let us know if you c
 an make it. Use the RSVP button at the top of this page and follow the res
 ulting steps. \n\nYou can see images of his exhibited work on <a href='htt
 ps://aldridgegardens.com/art/in_the_gallery/art-gallery.html'>the our gall
 ery page here</a>. \n\n
X-WR-RELCALID:bc43e382a49899410bfc6f5cb81fd864
X-WR-TIMEZONE:America/Chicago
BEGIN:VTIMEZONE
TZID:America/Chicago
BEGIN:STANDARD
TZNAME:CST
DTSTART:20201101T020000
TZOFFSETFROM:-0500
TZOFFSETTO:-0600
RDATE:20211107T020000
RDATE:20221106T020000
END:STANDARD
BEGIN:DAYLIGHT
TZNAME:CDT
DTSTART:20210314T020000
TZOFFSETFROM:-0600
TZOFFSETTO:-0500
RDATE:20220313T020000
END:DAYLIGHT
END:VTIMEZONE
BEGIN:VEVENT
UID:b25cc61e-2dd1-4da5-9617-7e1527f73df4
DTSTAMP:20260420T230627Z
DESCRIPTION:“Sip & See” at Aldridge Gardens\nWednesday\, May 12th from 5 to
  7 p.m.\n\nPlease join us for an indoor-outdoor reception featuring esteem
 ed Birmingham artist Lowell Vann. Sip refreshments while viewing Vann’s pa
 intings inside the gallery. Plus\, his beloved minimalist ceramics will be
  available for purchase just outside on our covered patio. ($-$$) Great gi
 ft ideas! Bring the family. Invite a friend!\n\nMasks Optional | Casual Dr
 ess | Wine and Refreshments\n\n<b>Please RSVP</b> to let us know if you ca
 n make it. Use the RSVP button at the top of this page and follow the resu
 lting steps. \n\nYou can see images of his exhibited work on <a href='http
 s://aldridgegardens.com/art/in_the_gallery/art-gallery.html'>the our galle
 ry page here</a>. \n\n
DTSTART;TZID=America/Chicago:20210512T170000
DTEND;TZID=America/Chicago:20210512T190000
LOCATION:Eddie and Kay Aldridge Arts and Historical Collections Museum
SUMMARY:'Sip and See' Artist Reception for Lowell Vann
END:VEVENT
END:VCALENDAR
