BEGIN:VCALENDAR
VERSION:2.0
PRODID:-//aldridgegardens.com//NONSGML kigkonsult.se iCalcreator 2.30.10//
CALSCALE:GREGORIAN
METHOD:PUBLISH
UID:c76e948d-5d70-4810-81ad-169253126842
X-WR-CALDESC:Aldridge Gardens will be hosting 'Storytime with the Hoover Pu
 blic Library' on Thursday\, May 13th from 10 to 10:30 a.m.. Bring your chi
 ldren and a blanket or chairs to listen to a story in the Pavilion. Plenty
  of space to social distance\, adjacent to restrooms\, and you can enjoy A
 ldridge Gardens both before and after your story!\n\n<a target='_blank' hr
 ef='http://events.hooverlibrary.org/events?t=Storytime&v=grid' rel='norefe
 rrer noopener'>Click here to register on the Hoover Public Library website
 . </a> \n
X-WR-RELCALID:246ecb14148ea375ec7c86fd9fd1ef8a
X-WR-TIMEZONE:America/Chicago
BEGIN:VTIMEZONE
TZID:America/Chicago
BEGIN:STANDARD
TZNAME:CST
DTSTART:20201101T020000
TZOFFSETFROM:-0500
TZOFFSETTO:-0600
RDATE:20211107T020000
RDATE:20221106T020000
END:STANDARD
BEGIN:DAYLIGHT
TZNAME:CDT
DTSTART:20210314T020000
TZOFFSETFROM:-0600
TZOFFSETTO:-0500
RDATE:20220313T020000
END:DAYLIGHT
END:VTIMEZONE
BEGIN:VEVENT
UID:5e1f15b5-31fe-46a5-934d-78146efab4d5
DTSTAMP:20260421T140852Z
DESCRIPTION:Aldridge Gardens will be hosting 'Storytime with the Hoover Pub
 lic Library' on Thursday\, May 13th from 10 to 10:30 a.m.. Bring your chil
 dren and a blanket or chairs to listen to a story in the Pavilion. Plenty 
 of space to social distance\, adjacent to restrooms\, and you can enjoy Al
 dridge Gardens both before and after your story!\n\n<a target='_blank' hre
 f='http://events.hooverlibrary.org/events?t=Storytime&v=grid' rel='norefer
 rer noopener'>Click here to register on the Hoover Public Library website.
  </a> \n
DTSTART;TZID=America/Chicago:20210513T100000
DTEND;TZID=America/Chicago:20210513T103000
LOCATION:Outside under the Pavilion at Aldridge Gardens
SUMMARY:Storytime with the Hoover Public Library
END:VEVENT
END:VCALENDAR
