BEGIN:VCALENDAR
VERSION:2.0
PRODID:-//aldridgegardens.com//NONSGML kigkonsult.se iCalcreator 2.30.10//
CALSCALE:GREGORIAN
METHOD:PUBLISH
UID:1ded56e8-a4ef-4f1c-b264-107f3096d0ed
X-WR-CALDESC:David Doggett will show you how to create a mini-greenhouse an
 d propagate up to 3 hydrangea cuttings from our Dirr Hydrangea Garden.  \n
 \nWillie Edmiston will show how you can propagate from Oak Leaf Hydrangea 
 seeds.   \n\nPlease bring a CLEAR\, empty 2 liter plastic soda bottle\, yo
 ur pruners\, and a pair of scissors for trimming leaves.\n\nCost: $25 Memb
 ers/$30 Non-Members.\n
X-WR-RELCALID:af27efac4ff01e15690a648b56147270
X-WR-TIMEZONE:America/Chicago
BEGIN:VTIMEZONE
TZID:America/Chicago
BEGIN:STANDARD
TZNAME:CST
DTSTART:20201101T020000
TZOFFSETFROM:-0500
TZOFFSETTO:-0600
RDATE:20211107T020000
RDATE:20221106T020000
END:STANDARD
BEGIN:DAYLIGHT
TZNAME:CDT
DTSTART:20210314T020000
TZOFFSETFROM:-0600
TZOFFSETTO:-0500
RDATE:20220313T020000
END:DAYLIGHT
END:VTIMEZONE
BEGIN:VEVENT
UID:e4a0ffd0-b0fa-407e-9bb6-37bdb18b9fc9
DTSTAMP:20260421T141103Z
DESCRIPTION:David Doggett will show you how to create a mini-greenhouse and
  propagate up to 3 hydrangea cuttings from our Dirr Hydrangea Garden.  \n
 \nWillie Edmiston will show how you can propagate from Oak Leaf Hydrangea 
 seeds.   \n\nPlease bring a CLEAR\, empty 2 liter plastic soda bottle\, yo
 ur pruners\, and a pair of scissors for trimming leaves.\n\nCost: $25 Memb
 ers/$30 Non-Members.\n
DTSTART;TZID=America/Chicago:20210522T083000
DTEND;TZID=America/Chicago:20210522T103000
LOCATION:Aldridge Gardens
SUMMARY:Hydrangea Propagation Workshop
END:VEVENT
END:VCALENDAR
