BEGIN:VCALENDAR
VERSION:2.0
PRODID:-//aldridgegardens.com//NONSGML kigkonsult.se iCalcreator 2.30.10//
CALSCALE:GREGORIAN
METHOD:PUBLISH
UID:0bfd227b-11f3-4bcf-92cc-48fb3500aaa2
X-WR-CALDESC:<b>This camp is now FULL.</b>\n\nMay 31-June 4\nEntering Grade
 s 5k – 3rd\n\nExplore some myths and questions about the natural world in 
 our backyard!  This may get a little messy! \n\nInstructor: Demeteria Long
 \n\n\n
X-WR-RELCALID:34e23807670081620c1192d551744635
X-WR-TIMEZONE:America/Chicago
BEGIN:VTIMEZONE
TZID:America/Chicago
BEGIN:STANDARD
TZNAME:CST
DTSTART:20201101T020000
TZOFFSETFROM:-0500
TZOFFSETTO:-0600
RDATE:20211107T020000
RDATE:20221106T020000
END:STANDARD
BEGIN:DAYLIGHT
TZNAME:CDT
DTSTART:20210314T020000
TZOFFSETFROM:-0600
TZOFFSETTO:-0500
RDATE:20220313T020000
END:DAYLIGHT
END:VTIMEZONE
BEGIN:VEVENT
UID:089ef1f6-109f-41ef-ae90-20d084ee0f12
DTSTAMP:20260421T141211Z
DESCRIPTION:<b>This camp is now FULL.</b>\n\nMay 31-June 4\nEntering Grades
  5k – 3rd\n\nExplore some myths and questions about the natural world in o
 ur backyard!  This may get a little messy! \n\nInstructor: Demeteria Long
 \n\n\n
DTSTART;TZID=America/Chicago:20210531T090000
DTEND;TZID=America/Chicago:20210531T120000
LOCATION:
SUMMARY:Myth Busters Camp May 31-June 4 (5k-3rd)
END:VEVENT
END:VCALENDAR
