BEGIN:VCALENDAR
VERSION:2.0
PRODID:-//aldridgegardens.com//NONSGML kigkonsult.se iCalcreator 2.30.10//
CALSCALE:GREGORIAN
METHOD:PUBLISH
UID:05bd0372-48e2-4c40-9cda-19f46516653a
X-WR-CALDESC:<b>This camp is now SOLD OUT.</b>\n\nJune 7-11\nEntering Grade
 s 5k – 3rd\n\nIt’s time for summer! Girls\, are you ready for some fun? Br
 ing your doll to camp at Aldridge Gardens. (May also include My Life or Ou
 r Generation Dolls.) You and your doll will explore the Gardens\, make all
  kinds of accessories and crafts\, and even have a tea party!  Join us as 
 we make new friends and great memories!\n\nInstructor: Kayla Latuso\n\n\n
X-WR-RELCALID:eaa91c4a4e8d7b2938fc16aa78c6af01
X-WR-TIMEZONE:America/Chicago
BEGIN:VTIMEZONE
TZID:America/Chicago
BEGIN:STANDARD
TZNAME:CST
DTSTART:20201101T020000
TZOFFSETFROM:-0500
TZOFFSETTO:-0600
RDATE:20211107T020000
RDATE:20221106T020000
END:STANDARD
BEGIN:DAYLIGHT
TZNAME:CDT
DTSTART:20210314T020000
TZOFFSETFROM:-0600
TZOFFSETTO:-0500
RDATE:20220313T020000
END:DAYLIGHT
END:VTIMEZONE
BEGIN:VEVENT
UID:466a6956-a727-4939-9095-119841d0da17
DTSTAMP:20260421T153007Z
DESCRIPTION:<b>This camp is now SOLD OUT.</b>\n\nJune 7-11\nEntering Grades
  5k – 3rd\n\nIt’s time for summer! Girls\, are you ready for some fun? Bri
 ng your doll to camp at Aldridge Gardens. (May also include My Life or Our
  Generation Dolls.) You and your doll will explore the Gardens\, make all 
 kinds of accessories and crafts\, and even have a tea party!  Join us as w
 e make new friends and great memories!\n\nInstructor: Kayla Latuso\n\n\n
DTSTART;TZID=America/Chicago:20210607T090000
DTEND;TZID=America/Chicago:20210607T120000
LOCATION:
SUMMARY:American Girl Dolls Camp June 7-11 (5k-3rd)
END:VEVENT
END:VCALENDAR
