BEGIN:VCALENDAR
VERSION:2.0
PRODID:-//aldridgegardens.com//NONSGML kigkonsult.se iCalcreator 2.30.10//
CALSCALE:GREGORIAN
METHOD:PUBLISH
UID:7eefd67d-431a-4437-a4a4-9dbde8d305d6
X-WR-CALDESC:<b>This camp is now SOLD OUT.</b>\n\nJune 14-18\nEntering Grad
 es 5k – 3rd\n\nIt’s time for summer! Girls\, are you ready for some fun? B
 ring your doll to camp at Aldridge Gardens. (May also include My Life or O
 ur Generation Dolls.) You and your doll will explore the Gardens\, make al
 l kinds of accessories and crafts\, and even have a tea party!  Join us as
  we make new friends and great memories!\n\nInstructor: Ellen Hottel\n\n\n
X-WR-RELCALID:4eae882c194ae0ea9fa6f130b96c7b72
X-WR-TIMEZONE:America/Chicago
BEGIN:VTIMEZONE
TZID:America/Chicago
BEGIN:STANDARD
TZNAME:CST
DTSTART:20201101T020000
TZOFFSETFROM:-0500
TZOFFSETTO:-0600
RDATE:20211107T020000
RDATE:20221106T020000
END:STANDARD
BEGIN:DAYLIGHT
TZNAME:CDT
DTSTART:20210314T020000
TZOFFSETFROM:-0600
TZOFFSETTO:-0500
RDATE:20220313T020000
END:DAYLIGHT
END:VTIMEZONE
BEGIN:VEVENT
UID:7daf3a58-5d7d-45c4-b484-aca99558674c
DTSTAMP:20260421T153335Z
DESCRIPTION:<b>This camp is now SOLD OUT.</b>\n\nJune 14-18\nEntering Grade
 s 5k – 3rd\n\nIt’s time for summer! Girls\, are you ready for some fun? Br
 ing your doll to camp at Aldridge Gardens. (May also include My Life or Ou
 r Generation Dolls.) You and your doll will explore the Gardens\, make all
  kinds of accessories and crafts\, and even have a tea party!  Join us as 
 we make new friends and great memories!\n\nInstructor: Ellen Hottel\n\n\n
DTSTART;TZID=America/Chicago:20210614T090000
DTEND;TZID=America/Chicago:20210614T120000
LOCATION:
SUMMARY:American Girl Dolls Camp June 14-18 (5k-3rd)
END:VEVENT
END:VCALENDAR
