BEGIN:VCALENDAR
VERSION:2.0
PRODID:-//aldridgegardens.com//NONSGML kigkonsult.se iCalcreator 2.30.10//
CALSCALE:GREGORIAN
METHOD:PUBLISH
UID:311c3af1-b939-45c4-8756-628a66bb362a
X-WR-CALDESC:<b>This camp is now FULL.</b>\n\nJune 14-18\nEntering Grades 5
 k – 3rd\n\nSee the Nature all around you as you use Art to create with it.
  \n\nInstructor: Lisa Johnson\n\n\n
X-WR-RELCALID:a20347a3b9cfc5472b8579a3f83e1967
X-WR-TIMEZONE:America/Chicago
BEGIN:VTIMEZONE
TZID:America/Chicago
BEGIN:STANDARD
TZNAME:CST
DTSTART:20201101T020000
TZOFFSETFROM:-0500
TZOFFSETTO:-0600
RDATE:20211107T020000
RDATE:20221106T020000
END:STANDARD
BEGIN:DAYLIGHT
TZNAME:CDT
DTSTART:20210314T020000
TZOFFSETFROM:-0600
TZOFFSETTO:-0500
RDATE:20220313T020000
END:DAYLIGHT
END:VTIMEZONE
BEGIN:VEVENT
UID:fd0cf49f-7a0f-48ad-98df-06093b0fbd73
DTSTAMP:20260421T154455Z
DESCRIPTION:<b>This camp is now FULL.</b>\n\nJune 14-18\nEntering Grades 5k
  – 3rd\n\nSee the Nature all around you as you use Art to create with it. 
 \n\nInstructor: Lisa Johnson\n\n\n
DTSTART;TZID=America/Chicago:20210614T090000
DTEND;TZID=America/Chicago:20210614T120000
LOCATION:
SUMMARY:Art in the Gardens June 14-18 (5k-3rd)
END:VEVENT
END:VCALENDAR
