BEGIN:VCALENDAR
VERSION:2.0
PRODID:-//aldridgegardens.com//NONSGML kigkonsult.se iCalcreator 2.30.10//
CALSCALE:GREGORIAN
METHOD:PUBLISH
UID:64ab4fc0-7e7a-46c8-bfb0-d9077580059c
X-WR-CALDESC:June 21 - 25\nGrades 3 - 5\n\nWanted! Kids who love to design\
 , fold\, and produce amazing origami creations. No previous experience nec
 essary. \n\nInstructor: Nancy McGowan\n\n
X-WR-RELCALID:a19e645eb94a40c94351b140c8b3bd32
X-WR-TIMEZONE:America/Chicago
BEGIN:VTIMEZONE
TZID:America/Chicago
BEGIN:STANDARD
TZNAME:CST
DTSTART:20201101T020000
TZOFFSETFROM:-0500
TZOFFSETTO:-0600
RDATE:20211107T020000
RDATE:20221106T020000
END:STANDARD
BEGIN:DAYLIGHT
TZNAME:CDT
DTSTART:20210314T020000
TZOFFSETFROM:-0600
TZOFFSETTO:-0500
RDATE:20220313T020000
END:DAYLIGHT
END:VTIMEZONE
BEGIN:VEVENT
UID:4161bd99-74d0-4d87-b3da-77199daed88b
DTSTAMP:20260421T154645Z
DESCRIPTION:June 21 - 25\nGrades 3 - 5\n\nWanted! Kids who love to design\,
  fold\, and produce amazing origami creations. No previous experience nece
 ssary. \n\nInstructor: Nancy McGowan\n\n
DTSTART;TZID=America/Chicago:20210621T090000
DTEND;TZID=America/Chicago:20210621T120000
LOCATION:
SUMMARY:Amazing Origami June 21-25 (3rd-5th)
END:VEVENT
END:VCALENDAR
