BEGIN:VCALENDAR
VERSION:2.0
PRODID:-//aldridgegardens.com//NONSGML kigkonsult.se iCalcreator 2.30.10//
CALSCALE:GREGORIAN
METHOD:PUBLISH
UID:0593278c-89d9-4c69-be47-113ee09387af
X-WR-CALDESC:Mary Segreto will lead workshop on decorative leaf casting in 
 concrete.\n\nUsing large leaves\, such as hostas\, Mary will share her tec
 hniques for making a casting with concrete to form decorative bowls\, plat
 es\, etc.  Participants will make their casting on Thursday and pick up th
 eir dried art work on Friday. Please bring and wear a mask\, due to the co
 ncrete dust. Participants may also bring a favorite leaf or two. These lea
 ves should be large\, about the size of your palm or larger\, smooth\, and
  with obvious veining. \n\nThe cost is $25 members for Aldridge Gardens me
 mbers and $30 for nonmembers.\n
X-WR-RELCALID:b033796d005ea09d7a78598a12f23ef7
X-WR-TIMEZONE:America/Chicago
BEGIN:VTIMEZONE
TZID:America/Chicago
BEGIN:STANDARD
TZNAME:CST
DTSTART:20201101T020000
TZOFFSETFROM:-0500
TZOFFSETTO:-0600
RDATE:20211107T020000
RDATE:20221106T020000
END:STANDARD
BEGIN:DAYLIGHT
TZNAME:CDT
DTSTART:20210314T020000
TZOFFSETFROM:-0600
TZOFFSETTO:-0500
RDATE:20220313T020000
END:DAYLIGHT
END:VTIMEZONE
BEGIN:VEVENT
UID:d7d719d2-a0cc-4296-bb78-67f35e02f406
DTSTAMP:20260421T154409Z
DESCRIPTION:Mary Segreto will lead workshop on decorative leaf casting in c
 oncrete.\n\nUsing large leaves\, such as hostas\, Mary will share her tech
 niques for making a casting with concrete to form decorative bowls\, plate
 s\, etc.  Participants will make their casting on Thursday and pick up the
 ir dried art work on Friday. Please bring and wear a mask\, due to the con
 crete dust. Participants may also bring a favorite leaf or two. These leav
 es should be large\, about the size of your palm or larger\, smooth\, and 
 with obvious veining. \n\nThe cost is $25 members for Aldridge Gardens mem
 bers and $30 for nonmembers.\n
DTSTART;TZID=America/Chicago:20210624T140000
DTEND;TZID=America/Chicago:20210624T160000
LOCATION:Field Trip Garden
SUMMARY:Leaf Casting Workshop
END:VEVENT
END:VCALENDAR
