BEGIN:VCALENDAR
VERSION:2.0
PRODID:-//aldridgegardens.com//NONSGML kigkonsult.se iCalcreator 2.30.10//
CALSCALE:GREGORIAN
METHOD:PUBLISH
UID:407fcfeb-28eb-480f-a3ed-2cea6dd5d95d
X-WR-CALDESC:'Never Forget Garden' Talk at Aldridge Gardens\n\n<b>Originall
 y scheduled for Saturday\, July 24th from 1 to 3 p.m.\, this event has bee
 n postponed. </b>\n\n- - - - - - - - - - - - - - - - - - - - - - - - - - -
  - - - - - - - - - - - - -\n\nJoin us for a presentation by Kaye Sutley on
  the Tomb of the Unknown Soldier Centennial's 'Never Forget Garden' initia
 tive. Ms. Sutley will share how we can honor the Tomb of the Unknown Soldi
 er by planting white roses in our own gardens. \n\n<i>The planting of the 
 Rose\, America’s National Floral Emblem\, will be a major feature of the ‘
 Never Forget Garden’ project\, an important element of the Centennial plan
 s of the The Society of the Honor Guard\, Tomb of the Unknown Soldier. We 
 jointly recognize the power of Roses to speak of patriotism\, give comfort
 \, represent love\, pride\, remembrance\, strength\, courage\, unity\, val
 or and all matters of the heart. Therefore\, we should all be honored and 
 pleased to join the Centennial Commemoration this year and to dedicate a s
 pecial place within our own rose garden as well as our local community gar
 dens as “Never Forget Gardens.”</i>\n\nThis event is free with registratio
 n. Light refreshments will be served.\n\n- - - - - - - - - - - - - - - - -
  - - - - - - - - - - - - - - - - - - - - - - -\n\n<b>The RSVP for this eve
 nt has been disabled. </b> Look for information to come regarding the resc
 heduling of our Never Forget Garden Talk. \n\n
X-WR-RELCALID:dddb006d043fff0773305046e0f55ab9
X-WR-TIMEZONE:America/Chicago
BEGIN:VTIMEZONE
TZID:America/Chicago
BEGIN:STANDARD
TZNAME:CST
DTSTART:20201101T020000
TZOFFSETFROM:-0500
TZOFFSETTO:-0600
RDATE:20211107T020000
RDATE:20221106T020000
END:STANDARD
BEGIN:DAYLIGHT
TZNAME:CDT
DTSTART:20210314T020000
TZOFFSETFROM:-0600
TZOFFSETTO:-0500
RDATE:20220313T020000
END:DAYLIGHT
END:VTIMEZONE
BEGIN:VEVENT
UID:14ff4d80-c893-4dbe-9f96-a590d4a3e2e9
DTSTAMP:20260421T172501Z
DESCRIPTION:'Never Forget Garden' Talk at Aldridge Gardens\n\n<b>Originally
  scheduled for Saturday\, July 24th from 1 to 3 p.m.\, this event has been
  postponed. </b>\n\n- - - - - - - - - - - - - - - - - - - - - - - - - - - 
 - - - - - - - - - - - - -\n\nJoin us for a presentation by Kaye Sutley on 
 the Tomb of the Unknown Soldier Centennial's 'Never Forget Garden' initiat
 ive. Ms. Sutley will share how we can honor the Tomb of the Unknown Soldie
 r by planting white roses in our own gardens. \n\n<i>The planting of the R
 ose\, America’s National Floral Emblem\, will be a major feature of the ‘N
 ever Forget Garden’ project\, an important element of the Centennial plans
  of the The Society of the Honor Guard\, Tomb of the Unknown Soldier. We j
 ointly recognize the power of Roses to speak of patriotism\, give comfort\
 , represent love\, pride\, remembrance\, strength\, courage\, unity\, valo
 r and all matters of the heart. Therefore\, we should all be honored and p
 leased to join the Centennial Commemoration this year and to dedicate a sp
 ecial place within our own rose garden as well as our local community gard
 ens as “Never Forget Gardens.”</i>\n\nThis event is free with registration
 . Light refreshments will be served.\n\n- - - - - - - - - - - - - - - - - 
 - - - - - - - - - - - - - - - - - - - - - - -\n\n<b>The RSVP for this even
 t has been disabled. </b> Look for information to come regarding the resch
 eduling of our Never Forget Garden Talk. \n\n
DTSTART;TZID=America/Chicago:20210724T130000
DTEND;TZID=America/Chicago:20210724T150000
LOCATION:NaphCare Education Building at Aldridge Gardens
SUMMARY:'Never Forget Garden' Talk
END:VEVENT
END:VCALENDAR
