BEGIN:VCALENDAR
VERSION:2.0
PRODID:-//aldridgegardens.com//NONSGML kigkonsult.se iCalcreator 2.30.10//
CALSCALE:GREGORIAN
METHOD:PUBLISH
UID:743d3844-597c-430a-8f42-322a6463fa31
X-WR-CALDESC:Linda McCullough will explain what native plants are and the b
 enefits of planting them in our gardens. Her talk will highlight how we ca
 n all make a positive contribution to the health of our gardens and our la
 rger environment while creating beautiful spaces. This class will be limit
 ed to 20 people. \n\nNot a member yet? Join online now or sign up in perso
 n at the Gardens.\n\nLinda holds a Birmingham Botanical Gardens Certificat
 ion in Native Plant Studies. She enjoys using her imagination and creative
  skills through gardening\, cooking\, music\, and photography.\n\n
X-WR-RELCALID:ac82db160eabe4650e147cbe5970e538
X-WR-TIMEZONE:America/Chicago
BEGIN:VTIMEZONE
TZID:America/Chicago
BEGIN:STANDARD
TZNAME:CST
DTSTART:20201101T020000
TZOFFSETFROM:-0500
TZOFFSETTO:-0600
RDATE:20211107T020000
RDATE:20221106T020000
END:STANDARD
BEGIN:DAYLIGHT
TZNAME:CDT
DTSTART:20210314T020000
TZOFFSETFROM:-0600
TZOFFSETTO:-0500
RDATE:20220313T020000
RDATE:20230312T020000
END:DAYLIGHT
END:VTIMEZONE
BEGIN:VEVENT
UID:af661c41-c327-4f62-b640-43931241bd97
DTSTAMP:20260421T110714Z
DESCRIPTION:Linda McCullough will explain what native plants are and the be
 nefits of planting them in our gardens. Her talk will highlight how we can
  all make a positive contribution to the health of our gardens and our lar
 ger environment while creating beautiful spaces. This class will be limite
 d to 20 people. \n\nNot a member yet? Join online now or sign up in person
  at the Gardens.\n\nLinda holds a Birmingham Botanical Gardens Certificati
 on in Native Plant Studies. She enjoys using her imagination and creative 
 skills through gardening\, cooking\, music\, and photography.\n\n
DTSTART;TZID=America/Chicago:20210914T100000
DTEND;TZID=America/Chicago:20210914T110000
LOCATION:Pavilion at Aldridge Gardens
SUMMARY:Members-Only Garden Talk - Native Plants
END:VEVENT
END:VCALENDAR
