BEGIN:VCALENDAR
VERSION:2.0
PRODID:-//aldridgegardens.com//NONSGML kigkonsult.se iCalcreator 2.30.10//
CALSCALE:GREGORIAN
METHOD:PUBLISH
UID:5b03ae87-1906-41f5-b340-32e50194e1ed
X-WR-CALDESC:Join us for Vitaly Charny's presentation on 'The Life of Butte
 rflies.' He will cover the natural history of butterflies and their life c
 ycle\, along with daily and seasonal activities. In addition\, he will als
 o discuss butterfly food sources\, their natural enemies\, and the importa
 nt role that they play in biodiversity. \n\nThis class will be held in the
  education building and limited to 20 people. \n\nThe event is intended fo
 r Aldridge Gardens members only. Not a member yet? Join online now or sign
  up in person at the Gardens.\n\n
X-WR-RELCALID:6404f48dfeb634166e409bc364274a86
X-WR-TIMEZONE:America/Chicago
BEGIN:VTIMEZONE
TZID:America/Chicago
BEGIN:STANDARD
TZNAME:CST
DTSTART:20201101T020000
TZOFFSETFROM:-0500
TZOFFSETTO:-0600
RDATE:20211107T020000
RDATE:20221106T020000
END:STANDARD
BEGIN:DAYLIGHT
TZNAME:CDT
DTSTART:20210314T020000
TZOFFSETFROM:-0600
TZOFFSETTO:-0500
RDATE:20220313T020000
RDATE:20230312T020000
END:DAYLIGHT
END:VTIMEZONE
BEGIN:VEVENT
UID:cd1429da-b531-4182-ad4d-7420afd1036e
DTSTAMP:20260421T113010Z
DESCRIPTION:Join us for Vitaly Charny's presentation on 'The Life of Butter
 flies.' He will cover the natural history of butterflies and their life cy
 cle\, along with daily and seasonal activities. In addition\, he will also
  discuss butterfly food sources\, their natural enemies\, and the importan
 t role that they play in biodiversity. \n\nThis class will be held in the 
 education building and limited to 20 people. \n\nThe event is intended for
  Aldridge Gardens members only. Not a member yet? Join online now or sign 
 up in person at the Gardens.\n\n
DTSTART;TZID=America/Chicago:20210928T100000
DTEND;TZID=America/Chicago:20210928T110000
LOCATION:NaphCare Education Building
SUMMARY:Members-Only Garden Talk - Butterflies
END:VEVENT
END:VCALENDAR
