BEGIN:VCALENDAR
VERSION:2.0
PRODID:-//aldridgegardens.com//NONSGML kigkonsult.se iCalcreator 2.30.10//
CALSCALE:GREGORIAN
METHOD:PUBLISH
UID:b187a987-2679-4357-b7d8-da9cff8351d1
X-WR-CALDESC:<b>This event is now sold out.</b>\n\nFloral designer Beth Whi
 te will lead this hands-on class. She will be sharing ways to make Christm
 as centerpieces that create a festive atmosphere for the holidays. Supplie
 s of a fresh greenery bundle\, ribbon\, and wire are included. You'll make
  things in class to take home with you! \n\nThe workshop cost is $25 for A
 ldridge Gardens members and $30 for non-members.  \n\nThe class will be he
 ld either in under our pavilion or in or education building\, depending on
  the weather. \n\n<b>This event is now sold out.</b>\n
X-WR-RELCALID:7fb74b8f65067b28f66c451cd155be2d
X-WR-TIMEZONE:America/Chicago
BEGIN:VTIMEZONE
TZID:America/Chicago
BEGIN:STANDARD
TZNAME:CST
DTSTART:20211107T020000
TZOFFSETFROM:-0500
TZOFFSETTO:-0600
RDATE:20221106T020000
END:STANDARD
BEGIN:DAYLIGHT
TZNAME:CDT
DTSTART:20210314T020000
TZOFFSETFROM:-0600
TZOFFSETTO:-0500
RDATE:20220313T020000
RDATE:20230312T020000
END:DAYLIGHT
END:VTIMEZONE
BEGIN:VEVENT
UID:961e49d9-46c4-46a8-a7c2-abeb100d5449
DTSTAMP:20260421T132402Z
DESCRIPTION:<b>This event is now sold out.</b>\n\nFloral designer Beth Whit
 e will lead this hands-on class. She will be sharing ways to make Christma
 s centerpieces that create a festive atmosphere for the holidays. Supplies
  of a fresh greenery bundle\, ribbon\, and wire are included. You'll make 
 things in class to take home with you! \n\nThe workshop cost is $25 for Al
 dridge Gardens members and $30 for non-members.  \n\nThe class will be hel
 d either in under our pavilion or in or education building\, depending on 
 the weather. \n\n<b>This event is now sold out.</b>\n
DTSTART;TZID=America/Chicago:20211207T100000
DTEND;TZID=America/Chicago:20211207T120000
LOCATION:Pavilion or Education Building at Aldridge Gardens
SUMMARY:Creative Christmas Centerpieces with Beth White
END:VEVENT
END:VCALENDAR
