BEGIN:VCALENDAR
VERSION:2.0
PRODID:-//aldridgegardens.com//NONSGML kigkonsult.se iCalcreator 2.30.10//
CALSCALE:GREGORIAN
METHOD:PUBLISH
UID:5a057dca-b9f4-49e8-9c6f-2f6128eeb3c5
X-WR-CALDESC:Meet at the education building and then walk the grounds of th
 e Gardens with David Doggett. Learn about the Japanese Maples here\, as we
 ll as how to care for yours at home. This event is free but registration i
 s required. Click the register now button at the top of this page.
X-WR-RELCALID:b1bc1c80995f97cd49fb45c2b03764c3
X-WR-TIMEZONE:America/Chicago
BEGIN:VTIMEZONE
TZID:America/Chicago
BEGIN:STANDARD
TZNAME:CST
DTSTART:20211107T020000
TZOFFSETFROM:-0500
TZOFFSETTO:-0600
RDATE:20221106T020000
END:STANDARD
BEGIN:DAYLIGHT
TZNAME:CDT
DTSTART:20220313T020000
TZOFFSETFROM:-0600
TZOFFSETTO:-0500
RDATE:20230312T020000
END:DAYLIGHT
END:VTIMEZONE
BEGIN:VEVENT
UID:962b89a1-20cb-4a9b-9269-4d0404744e2c
DTSTAMP:20260421T032733Z
DESCRIPTION:Meet at the education building and then walk the grounds of the
  Gardens with David Doggett. Learn about the Japanese Maples here\, as wel
 l as how to care for yours at home. This event is free but registration is
  required. Click the register now button at the top of this page.
DTSTART;TZID=America/Chicago:20220410T133000
DTEND;TZID=America/Chicago:20220410T150000
LOCATION:
SUMMARY:Japanese Maple Walk and Talk with David Doggett
END:VEVENT
END:VCALENDAR
