BEGIN:VCALENDAR
VERSION:2.0
PRODID:-//aldridgegardens.com//NONSGML kigkonsult.se iCalcreator 2.30.10//
CALSCALE:GREGORIAN
METHOD:PUBLISH
UID:3cc3ccf5-7f61-4d48-91bd-22d7c8ab1043
X-WR-CALDESC:June 13-17\nGrades 5K-3\n\nBring your doll for tea parties and
  group activities\, make crafts and accessories for you and your doll (inc
 ludes My Life or Our Generation-sized dolls).\n\nInstructor: Shannon Kline
 \n\n
X-WR-RELCALID:bfea73ea8a7ae9db0a034bb618c4312b
X-WR-TIMEZONE:America/Chicago
BEGIN:VTIMEZONE
TZID:America/Chicago
BEGIN:STANDARD
TZNAME:CST
DTSTART:20211107T020000
TZOFFSETFROM:-0500
TZOFFSETTO:-0600
RDATE:20221106T020000
RDATE:20231105T020000
END:STANDARD
BEGIN:DAYLIGHT
TZNAME:CDT
DTSTART:20220313T020000
TZOFFSETFROM:-0600
TZOFFSETTO:-0500
RDATE:20230312T020000
END:DAYLIGHT
END:VTIMEZONE
BEGIN:VEVENT
UID:13b2b88b-8a77-4f7a-ac61-badd7666e034
DTSTAMP:20260421T000112Z
DESCRIPTION:June 13-17\nGrades 5K-3\n\nBring your doll for tea parties and 
 group activities\, make crafts and accessories for you and your doll (incl
 udes My Life or Our Generation-sized dolls).\n\nInstructor: Shannon Kline
 \n\n
DTSTART;TZID=America/Chicago:20220613T090000
DTEND;TZID=America/Chicago:20220613T120000
LOCATION:Aldridge Gardens
SUMMARY:American Girl Dolls Camp June 13-17 (5k-3rd)
END:VEVENT
END:VCALENDAR
