BEGIN:VCALENDAR
VERSION:2.0
PRODID:-//aldridgegardens.com//NONSGML kigkonsult.se iCalcreator 2.30.10//
CALSCALE:GREGORIAN
METHOD:PUBLISH
UID:a79f9ccf-390c-446d-93da-903923dc0d39
X-WR-CALDESC:June 13-17\nGrades 5K-3\n\nCan you imagine 5 days of different
  Puppets? We can!\n\nInstructor: RyKeia Kennedy\n\n
X-WR-RELCALID:5242955a98abd992d9c73451eed54bb4
X-WR-TIMEZONE:America/Chicago
BEGIN:VTIMEZONE
TZID:America/Chicago
BEGIN:STANDARD
TZNAME:CST
DTSTART:20211107T020000
TZOFFSETFROM:-0500
TZOFFSETTO:-0600
RDATE:20221106T020000
RDATE:20231105T020000
END:STANDARD
BEGIN:DAYLIGHT
TZNAME:CDT
DTSTART:20220313T020000
TZOFFSETFROM:-0600
TZOFFSETTO:-0500
RDATE:20230312T020000
END:DAYLIGHT
END:VTIMEZONE
BEGIN:VEVENT
UID:6b30c714-f65e-461e-9387-2771c01bf90b
DTSTAMP:20260420T235912Z
DESCRIPTION:June 13-17\nGrades 5K-3\n\nCan you imagine 5 days of different 
 Puppets? We can!\n\nInstructor: RyKeia Kennedy\n\n
DTSTART;TZID=America/Chicago:20220613T090000
DTEND;TZID=America/Chicago:20220613T120000
LOCATION:Aldridge Gardens
SUMMARY:Puppets Camp June 13-17 (5k-3rd)
END:VEVENT
END:VCALENDAR
