BEGIN:VCALENDAR
VERSION:2.0
PRODID:-//aldridgegardens.com//NONSGML kigkonsult.se iCalcreator 2.30.10//
CALSCALE:GREGORIAN
METHOD:PUBLISH
UID:35788022-3143-4ae5-b1b1-9d0fb64e764d
X-WR-CALDESC:June 20-24\nGrades 5K-3\n\nSee and USE Nature’s colors all aro
 und as you create ART with it!\n\nInstructor: Lisa Johnson\n\n
X-WR-RELCALID:596e4aca71acdccac455ced459789b34
X-WR-TIMEZONE:America/Chicago
BEGIN:VTIMEZONE
TZID:America/Chicago
BEGIN:STANDARD
TZNAME:CST
DTSTART:20211107T020000
TZOFFSETFROM:-0500
TZOFFSETTO:-0600
RDATE:20221106T020000
RDATE:20231105T020000
END:STANDARD
BEGIN:DAYLIGHT
TZNAME:CDT
DTSTART:20220313T020000
TZOFFSETFROM:-0600
TZOFFSETTO:-0500
RDATE:20230312T020000
END:DAYLIGHT
END:VTIMEZONE
BEGIN:VEVENT
UID:c0087f91-9a67-4094-8bf8-a78f57404965
DTSTAMP:20260421T002103Z
DESCRIPTION:June 20-24\nGrades 5K-3\n\nSee and USE Nature’s colors all arou
 nd as you create ART with it!\n\nInstructor: Lisa Johnson\n\n
DTSTART;TZID=America/Chicago:20220620T090000
DTEND;TZID=America/Chicago:20220620T120000
LOCATION:Aldridge Gardens
SUMMARY:Art in the Gardens Camp June 20-24 (5k-3rd)
END:VEVENT
END:VCALENDAR
