BEGIN:VCALENDAR
VERSION:2.0
PRODID:-//aldridgegardens.com//NONSGML kigkonsult.se iCalcreator 2.30.10//
CALSCALE:GREGORIAN
METHOD:PUBLISH
UID:88d81585-8bfd-466b-89c8-3dba6e7e247c
X-WR-CALDESC:June 20-24\nGrades 3rd-5th\n\nUsing Science\, Technology\, Eng
 ineering\, Art\, & Math centered on Creating Kitchen Concoctions! \nIntere
 sted in ideas like mixing up rock candy\, making s’mores in a solar oven\,
  or working on coffee-can ice cream? Ice-Fishing? Oobleck?\n\nInstructor: 
 Crystal Perry\n\n
X-WR-RELCALID:cf3c9c1d4d508ab04d71b52813904f01
X-WR-TIMEZONE:America/Chicago
BEGIN:VTIMEZONE
TZID:America/Chicago
BEGIN:STANDARD
TZNAME:CST
DTSTART:20211107T020000
TZOFFSETFROM:-0500
TZOFFSETTO:-0600
RDATE:20221106T020000
RDATE:20231105T020000
END:STANDARD
BEGIN:DAYLIGHT
TZNAME:CDT
DTSTART:20220313T020000
TZOFFSETFROM:-0600
TZOFFSETTO:-0500
RDATE:20230312T020000
END:DAYLIGHT
END:VTIMEZONE
BEGIN:VEVENT
UID:0f357ae3-6aeb-41eb-b912-60e00f749591
DTSTAMP:20260420T235711Z
DESCRIPTION:June 20-24\nGrades 3rd-5th\n\nUsing Science\, Technology\, Engi
 neering\, Art\, & Math centered on Creating Kitchen Concoctions! \nInteres
 ted in ideas like mixing up rock candy\, making s’mores in a solar oven\, 
 or working on coffee-can ice cream? Ice-Fishing? Oobleck?\n\nInstructor: C
 rystal Perry\n\n
DTSTART;TZID=America/Chicago:20220620T090000
DTEND;TZID=America/Chicago:20220620T120000
LOCATION:Aldridge Gardens
SUMMARY:S.T.E.A.M. Creating Kitchen Concoctions Camp June 20-24 (3rd-5th)
END:VEVENT
END:VCALENDAR
