BEGIN:VCALENDAR
VERSION:2.0
PRODID:-//aldridgegardens.com//NONSGML kigkonsult.se iCalcreator 2.30.10//
CALSCALE:GREGORIAN
METHOD:PUBLISH
UID:86e21fbb-f49d-4b3d-b4fb-7d428e590703
X-WR-CALDESC:June 27 - July 1\nGrades 5K-3\n\nSee and USE Nature’s colors a
 ll around as you create ART with it!\n\nInstructor: Lisa Johnson\n\n
X-WR-RELCALID:74e719a2e1e011e30ca1ec9489d35c80
X-WR-TIMEZONE:America/Chicago
BEGIN:VTIMEZONE
TZID:America/Chicago
BEGIN:STANDARD
TZNAME:CST
DTSTART:20211107T020000
TZOFFSETFROM:-0500
TZOFFSETTO:-0600
RDATE:20221106T020000
RDATE:20231105T020000
END:STANDARD
BEGIN:DAYLIGHT
TZNAME:CDT
DTSTART:20220313T020000
TZOFFSETFROM:-0600
TZOFFSETTO:-0500
RDATE:20230312T020000
END:DAYLIGHT
END:VTIMEZONE
BEGIN:VEVENT
UID:af3d376c-9d7f-4225-9988-e216a9bfde19
DTSTAMP:20260421T000111Z
DESCRIPTION:June 27 - July 1\nGrades 5K-3\n\nSee and USE Nature’s colors al
 l around as you create ART with it!\n\nInstructor: Lisa Johnson\n\n
DTSTART;TZID=America/Chicago:20220627T090000
DTEND;TZID=America/Chicago:20220627T120000
LOCATION:Aldridge Gardens
SUMMARY:Art in the Gardens Camp June 27 - July 1 (5k-3rd)
END:VEVENT
END:VCALENDAR
