BEGIN:VCALENDAR
VERSION:2.0
PRODID:-//aldridgegardens.com//NONSGML kigkonsult.se iCalcreator 2.30.10//
CALSCALE:GREGORIAN
METHOD:PUBLISH
UID:15555db6-8b97-4cb1-bfc5-81fa4ba4c1d6
X-WR-CALDESC:Beginner Yoga Classes\, taught by Devon Gage\, will be held in
  the Aldridge Gardens pavilion on Mondays from 5:30 to 6:45 p.m. \n\nHere 
 are the dates for the class:\nMonday\, September 19th\nMonday\, September 
 26th\nMonday\, October 3rd\nMonday\, October 10th\n\nCome get a whiff of f
 resh air as you breathe! Please let Devon know if you are going to be ther
 e (205-447-5577). The restrooms at the pavilion will be open.\n\n
X-WR-RELCALID:0f9b9d5e57e238d420af6046d1310078
X-WR-TIMEZONE:America/Chicago
BEGIN:VTIMEZONE
TZID:America/Chicago
BEGIN:STANDARD
TZNAME:CST
DTSTART:20211107T020000
TZOFFSETFROM:-0500
TZOFFSETTO:-0600
RDATE:20221106T020000
RDATE:20231105T020000
END:STANDARD
BEGIN:DAYLIGHT
TZNAME:CDT
DTSTART:20220313T020000
TZOFFSETFROM:-0600
TZOFFSETTO:-0500
RDATE:20230312T020000
RDATE:20240310T020000
END:DAYLIGHT
END:VTIMEZONE
BEGIN:VEVENT
UID:fa3559b4-068d-425d-b584-24b9cbf62f67
DTSTAMP:20260420T190025Z
DESCRIPTION:Beginner Yoga Classes\, taught by Devon Gage\, will be held in 
 the Aldridge Gardens pavilion on Mondays from 5:30 to 6:45 p.m. \n\nHere a
 re the dates for the class:\nMonday\, September 19th\nMonday\, September 2
 6th\nMonday\, October 3rd\nMonday\, October 10th\n\nCome get a whiff of fr
 esh air as you breathe! Please let Devon know if you are going to be there
  (205-447-5577). The restrooms at the pavilion will be open.\n\n
DTSTART;TZID=America/Chicago:20220926T173000
DTEND;TZID=America/Chicago:20220926T184500
LOCATION:The Pavilion
SUMMARY:Beginners Yoga with Devon Gage
END:VEVENT
END:VCALENDAR
