BEGIN:VCALENDAR
VERSION:2.0
PRODID:-//aldridgegardens.com//NONSGML kigkonsult.se iCalcreator 2.30.10//
CALSCALE:GREGORIAN
METHOD:PUBLISH
UID:fe98682e-edc1-4f70-904e-6b13795213f3
X-WR-CALDESC:Annual Greenery Sale\n\nThis year’s Greenery Sale will be thre
 e days—Thursday and Friday from 9 a.m. until 3 p.m.\, and Saturday 9 a.m. 
 until noon. \n\nOur greenery is always fresh-cut just days before the sale
 . We have a wide assortment of different plants for holiday decorating\, i
 ncluding holly\, elaeagnus\, pine\, cedar\, juniper\, ivy and viburnum\, i
 ncluding boughs with berries. Before you “butcher” you own shrubs\, visit 
 the Aldridge Gardens Greenery Sale!\n\n
X-WR-RELCALID:7df7fea904ea5dd58b7c703aa6746cef
X-WR-TIMEZONE:America/Chicago
BEGIN:VTIMEZONE
TZID:America/Chicago
BEGIN:STANDARD
TZNAME:CST
DTSTART:20221106T020000
TZOFFSETFROM:-0500
TZOFFSETTO:-0600
RDATE:20231105T020000
END:STANDARD
BEGIN:DAYLIGHT
TZNAME:CDT
DTSTART:20220313T020000
TZOFFSETFROM:-0600
TZOFFSETTO:-0500
RDATE:20230312T020000
RDATE:20240310T020000
END:DAYLIGHT
END:VTIMEZONE
BEGIN:VEVENT
UID:ecf228b1-4e5b-437d-961e-31afc1370260
DTSTAMP:20260420T141716Z
DESCRIPTION:Annual Greenery Sale\n\nThis year’s Greenery Sale will be three
  days—Thursday and Friday from 9 a.m. until 3 p.m.\, and Saturday 9 a.m. u
 ntil noon. \n\nOur greenery is always fresh-cut just days before the sale.
  We have a wide assortment of different plants for holiday decorating\, in
 cluding holly\, elaeagnus\, pine\, cedar\, juniper\, ivy and viburnum\, in
 cluding boughs with berries. Before you “butcher” you own shrubs\, visit t
 he Aldridge Gardens Greenery Sale!\n\n
DTSTART;TZID=America/Chicago:20221202T090000
DTEND;TZID=America/Chicago:20221202T150000
LOCATION:Beside the house on the patio at ROOTS
SUMMARY:Holiday Greenery Sale
END:VEVENT
END:VCALENDAR
