BEGIN:VCALENDAR
VERSION:2.0
PRODID:-//aldridgegardens.com//NONSGML kigkonsult.se iCalcreator 2.30.10//
CALSCALE:GREGORIAN
METHOD:PUBLISH
UID:d4f5f84b-93bc-47de-b84e-bc8e7f6a8365
X-WR-CALDESC:<b>Update: There will be no Bonsai Society workshop for the mo
 nths of December and January.  The email invitation was sent out in error 
 and we apologize.</b>\n\nIf you would like more information about the Aldr
 idge Gardens Bonsai Society\, please contact Janet Abernathy at janet.aber
 nathy@hooveralabama.gov. \n\n
X-WR-RELCALID:78b6a824c78eff9e441801216926e341
X-WR-TIMEZONE:America/Chicago
BEGIN:VTIMEZONE
TZID:America/Chicago
BEGIN:STANDARD
TZNAME:CST
DTSTART:20221106T020000
TZOFFSETFROM:-0500
TZOFFSETTO:-0600
RDATE:20231105T020000
END:STANDARD
BEGIN:DAYLIGHT
TZNAME:CDT
DTSTART:20220313T020000
TZOFFSETFROM:-0600
TZOFFSETTO:-0500
RDATE:20230312T020000
RDATE:20240310T020000
END:DAYLIGHT
END:VTIMEZONE
BEGIN:VEVENT
UID:d1a9e75e-3511-4203-9b00-7b10dadb3d24
DTSTAMP:20260420T142009Z
DESCRIPTION:<b>Update: There will be no Bonsai Society workshop for the mon
 ths of December and January.  The email invitation was sent out in error a
 nd we apologize.</b>\n\nIf you would like more information about the Aldri
 dge Gardens Bonsai Society\, please contact Janet Abernathy at janet.abern
 athy@hooveralabama.gov. \n\n
DTSTART;TZID=America/Chicago:20221203T080000
DTEND;TZID=America/Chicago:20221203T110000
LOCATION:Education Building at Aldridge Gardens
SUMMARY:Bonsai Society Members Workshop
END:VEVENT
END:VCALENDAR
